BEGIN:VCALENDAR
VERSION:2.0
PRODID:-//Richmond Hill - ECPv6.15.18//NONSGML v1.0//EN
CALSCALE:GREGORIAN
METHOD:PUBLISH
X-WR-CALNAME:Richmond Hill
X-ORIGINAL-URL:https://richmondhill.org
X-WR-CALDESC:Events for Richmond Hill
REFRESH-INTERVAL;VALUE=DURATION:PT1H
X-Robots-Tag:noindex
X-PUBLISHED-TTL:PT1H
BEGIN:VTIMEZONE
TZID:America/New_York
BEGIN:DAYLIGHT
TZOFFSETFROM:-0500
TZOFFSETTO:-0400
TZNAME:EDT
DTSTART:20250309T070000
END:DAYLIGHT
BEGIN:STANDARD
TZOFFSETFROM:-0400
TZOFFSETTO:-0500
TZNAME:EST
DTSTART:20251102T060000
END:STANDARD
BEGIN:DAYLIGHT
TZOFFSETFROM:-0500
TZOFFSETTO:-0400
TZNAME:EDT
DTSTART:20260308T070000
END:DAYLIGHT
BEGIN:STANDARD
TZOFFSETFROM:-0400
TZOFFSETTO:-0500
TZNAME:EST
DTSTART:20261101T060000
END:STANDARD
BEGIN:DAYLIGHT
TZOFFSETFROM:-0500
TZOFFSETTO:-0400
TZNAME:EDT
DTSTART:20270314T070000
END:DAYLIGHT
BEGIN:STANDARD
TZOFFSETFROM:-0400
TZOFFSETTO:-0500
TZNAME:EST
DTSTART:20271107T060000
END:STANDARD
END:VTIMEZONE
BEGIN:VEVENT
DTSTART;TZID=America/New_York:20260114T183000
DTEND;TZID=America/New_York:20260114T200000
DTSTAMP:20260423T145814
CREATED:20260114T170525Z
LAST-MODIFIED:20260114T170703Z
UID:10001494-1768415400-1768420800@richmondhill.org
SUMMARY:FBC Women's Bible Study
DESCRIPTION:Start the New Year with the Preparation of the Gospel! \nMost Christians want to share their faith but don’t out of fear—fear of not knowing enough\, offending others\, or being rejected or ridiculed. This four-session study will teach you a natural\, nonthreatening way to share the gospel that reduces the pressure\, arguments\, and fear of failure. You’ll learn how to use simple questions in the course of everyday conversations to lead someone to faith in Christ. You’ll also learn how to let the Bible provide the answers to someone’s spiritual need as the Holy Spirit convicts and convinces the person through the power of God’s Word. Just like thousands of others who’ve learned this approach to evangelism\, you too can experience the joy of sharing Jesus without fear.\nChildcare is offered at all times.\n\nBehold the Savior \n\nTeens & Women: Mondays at 6:30pm\nTuesdays at 9:30am\nWednesdays at 6:30pm\n\nCosts:\n$10 per book. \nWe’re so excited to have you join us!
URL:https://richmondhill.org/event/fbc-women-bible-study/2026-01-14/
CATEGORIES:women
ATTACH;FMTTYPE=image/png:https://richmondhill.org/wp-content/uploads/2026/01/Share-Jesus-without-Fear.png
END:VEVENT
BEGIN:VEVENT
DTSTART;TZID=America/New_York:20260114T183000
DTEND;TZID=America/New_York:20260114T200000
DTSTAMP:20260423T145815
CREATED:20260114T171429Z
LAST-MODIFIED:20260114T171617Z
UID:10001518-1768415400-1768420800@richmondhill.org
SUMMARY:The Truth Project
DESCRIPTION:Meeting on Wednesdays at 6:30pm\, this series aims to help viewers understand and apply a Biblical perspective to all areas of life. The curriculum consists of video lessons covering topics like “What is Truth?\,” “Who is Man?\,” and “Whose Law?” It features insights from Biblical experts such as R.C. Sproul\, Os Guinness\, and John Stonestreet. Begins January 7th!
URL:https://richmondhill.org/event/the-truth-project/2026-01-14/
ATTACH;FMTTYPE=image/png:https://richmondhill.org/wp-content/uploads/2026/01/The-Truth-Project.png
END:VEVENT
END:VCALENDAR