BEGIN:VCALENDAR
VERSION:2.0
PRODID:-//Richmond Hill - ECPv6.15.18//NONSGML v1.0//EN
CALSCALE:GREGORIAN
METHOD:PUBLISH
X-ORIGINAL-URL:https://richmondhill.org
X-WR-CALDESC:Events for Richmond Hill
REFRESH-INTERVAL;VALUE=DURATION:PT1H
X-Robots-Tag:noindex
X-PUBLISHED-TTL:PT1H
BEGIN:VTIMEZONE
TZID:America/New_York
BEGIN:DAYLIGHT
TZOFFSETFROM:-0500
TZOFFSETTO:-0400
TZNAME:EDT
DTSTART:20250309T070000
END:DAYLIGHT
BEGIN:STANDARD
TZOFFSETFROM:-0400
TZOFFSETTO:-0500
TZNAME:EST
DTSTART:20251102T060000
END:STANDARD
BEGIN:DAYLIGHT
TZOFFSETFROM:-0500
TZOFFSETTO:-0400
TZNAME:EDT
DTSTART:20260308T070000
END:DAYLIGHT
BEGIN:STANDARD
TZOFFSETFROM:-0400
TZOFFSETTO:-0500
TZNAME:EST
DTSTART:20261101T060000
END:STANDARD
BEGIN:DAYLIGHT
TZOFFSETFROM:-0500
TZOFFSETTO:-0400
TZNAME:EDT
DTSTART:20270314T070000
END:DAYLIGHT
BEGIN:STANDARD
TZOFFSETFROM:-0400
TZOFFSETTO:-0500
TZNAME:EST
DTSTART:20271107T060000
END:STANDARD
END:VTIMEZONE
BEGIN:VEVENT
DTSTART;TZID=America/New_York:20260125T090000
DTEND;TZID=America/New_York:20260125T120000
DTSTAMP:20260423T150352
CREATED:20260114T164528Z
LAST-MODIFIED:20260114T164528Z
UID:10001421-1769331600-1769342400@richmondhill.org
SUMMARY:Empower Sav Baby Shower
DESCRIPTION:Please join us for a Baby Shower in support of Empower Sav Women’s Healthcare – formerly known as Thrive Savannah! On Sunday\, January 25th\, please drop off your donations at any time during our morning services & Sunday Groups in the Connection Center.
URL:https://richmondhill.org/event/empower-sav-baby-shower/
CATEGORIES:mission
ATTACH;FMTTYPE=image/png:https://richmondhill.org/wp-content/uploads/2026/01/Thrive-Baby-Shower_2026_Announcements.png
END:VEVENT
END:VCALENDAR