BEGIN:VCALENDAR
VERSION:2.0
PRODID:-//Richmond Hill - ECPv6.15.18//NONSGML v1.0//EN
CALSCALE:GREGORIAN
METHOD:PUBLISH
X-ORIGINAL-URL:https://richmondhill.org
X-WR-CALDESC:Events for Richmond Hill
REFRESH-INTERVAL;VALUE=DURATION:PT1H
X-Robots-Tag:noindex
X-PUBLISHED-TTL:PT1H
BEGIN:VTIMEZONE
TZID:America/New_York
BEGIN:DAYLIGHT
TZOFFSETFROM:-0500
TZOFFSETTO:-0400
TZNAME:EDT
DTSTART:20250309T070000
END:DAYLIGHT
BEGIN:STANDARD
TZOFFSETFROM:-0400
TZOFFSETTO:-0500
TZNAME:EST
DTSTART:20251102T060000
END:STANDARD
BEGIN:DAYLIGHT
TZOFFSETFROM:-0500
TZOFFSETTO:-0400
TZNAME:EDT
DTSTART:20260308T070000
END:DAYLIGHT
BEGIN:STANDARD
TZOFFSETFROM:-0400
TZOFFSETTO:-0500
TZNAME:EST
DTSTART:20261101T060000
END:STANDARD
BEGIN:DAYLIGHT
TZOFFSETFROM:-0500
TZOFFSETTO:-0400
TZNAME:EDT
DTSTART:20270314T070000
END:DAYLIGHT
BEGIN:STANDARD
TZOFFSETFROM:-0400
TZOFFSETTO:-0500
TZNAME:EST
DTSTART:20271107T060000
END:STANDARD
END:VTIMEZONE
BEGIN:VEVENT
DTSTART;TZID=America/New_York:20260319T093000
DTEND;TZID=America/New_York:20260319T113000
DTSTAMP:20260423T122940
CREATED:20260114T165317Z
LAST-MODIFIED:20260114T170021Z
UID:10001430-1773912600-1773919800@richmondhill.org
SUMMARY:FBC Women's Precept Bible Study
DESCRIPTION:Precept Bible Studies Overview: \nScripture guides you toward God. Precept guides you through Scripture. \nWe believe that relationship with God comes through knowing His Word\, and that means studying it hands-on. Precept’s Method explains the nuts and bolts of our studies so that every student can discover God’s truth for themselves. \nThese steps—observation\, interpretation\, application—are numbered for clarity\, but it’s important to remember that you don’t have to use them in order. As you study\, you should expect to move fluidly between steps and respond to the text as it is presented. \nOur Ladies Precept Group will begin the Book of Exodus on Thursday January 22nd.  \nPrecept Upon Precept Book:  $25\nIn-N-Out Book:  $23 \nThere will be no childcare provided for this study.
URL:https://richmondhill.org/event/fbc-womens-precept-bible-study/2026-03-19/
CATEGORIES:women
ATTACH;FMTTYPE=image/png:https://richmondhill.org/wp-content/uploads/2026/01/Exodus.png
END:VEVENT
END:VCALENDAR