BEGIN:VCALENDAR
VERSION:2.0
PRODID:-//Richmond Hill - ECPv6.15.18//NONSGML v1.0//EN
CALSCALE:GREGORIAN
METHOD:PUBLISH
X-ORIGINAL-URL:https://richmondhill.org
X-WR-CALDESC:Events for Richmond Hill
REFRESH-INTERVAL;VALUE=DURATION:PT1H
X-Robots-Tag:noindex
X-PUBLISHED-TTL:PT1H
BEGIN:VTIMEZONE
TZID:America/New_York
BEGIN:DAYLIGHT
TZOFFSETFROM:-0500
TZOFFSETTO:-0400
TZNAME:EDT
DTSTART:20240310T070000
END:DAYLIGHT
BEGIN:STANDARD
TZOFFSETFROM:-0400
TZOFFSETTO:-0500
TZNAME:EST
DTSTART:20241103T060000
END:STANDARD
BEGIN:DAYLIGHT
TZOFFSETFROM:-0500
TZOFFSETTO:-0400
TZNAME:EDT
DTSTART:20250309T070000
END:DAYLIGHT
BEGIN:STANDARD
TZOFFSETFROM:-0400
TZOFFSETTO:-0500
TZNAME:EST
DTSTART:20251102T060000
END:STANDARD
BEGIN:DAYLIGHT
TZOFFSETFROM:-0500
TZOFFSETTO:-0400
TZNAME:EDT
DTSTART:20260308T070000
END:DAYLIGHT
BEGIN:STANDARD
TZOFFSETFROM:-0400
TZOFFSETTO:-0500
TZNAME:EST
DTSTART:20261101T060000
END:STANDARD
END:VTIMEZONE
BEGIN:VEVENT
DTSTART;TZID=America/New_York:20250420T103000
DTEND;TZID=America/New_York:20250420T120000
DTSTAMP:20260424T065602
CREATED:20250314T192813Z
LAST-MODIFIED:20250314T192814Z
UID:10001008-1745145000-1745150400@richmondhill.org
SUMMARY:Easter Services
DESCRIPTION:Join us for our Easter Sunday Morning services at 7:45\, 9:00\, and 10:30!
URL:https://richmondhill.org/event/easter-services/2025-04-20/3/
CATEGORIES:Easter
ATTACH;FMTTYPE=image/png:https://richmondhill.org/wp-content/uploads/2025/03/Easter-2025.png
END:VEVENT
BEGIN:VEVENT
DTSTART;TZID=America/New_York:20250420T090000
DTEND;TZID=America/New_York:20250420T103000
DTSTAMP:20260424T065602
CREATED:20250314T192813Z
LAST-MODIFIED:20250314T192814Z
UID:10001007-1745139600-1745145000@richmondhill.org
SUMMARY:Easter Services
DESCRIPTION:Join us for our Easter Sunday Morning services at 7:45\, 9:00\, and 10:30!
URL:https://richmondhill.org/event/easter-services/2025-04-20/2/
CATEGORIES:Easter
ATTACH;FMTTYPE=image/png:https://richmondhill.org/wp-content/uploads/2025/03/Easter-2025.png
END:VEVENT
BEGIN:VEVENT
DTSTART;TZID=America/New_York:20250420T074500
DTEND;TZID=America/New_York:20250420T090000
DTSTAMP:20260424T065602
CREATED:20250314T192813Z
LAST-MODIFIED:20250314T192814Z
UID:10001006-1745135100-1745139600@richmondhill.org
SUMMARY:Easter Services
DESCRIPTION:Join us for our Easter Sunday Morning services at 7:45\, 9:00\, and 10:30!
URL:https://richmondhill.org/event/easter-services/2025-04-20/1/
CATEGORIES:Easter
ATTACH;FMTTYPE=image/png:https://richmondhill.org/wp-content/uploads/2025/03/Easter-2025.png
END:VEVENT
BEGIN:VEVENT
DTSTART;TZID=America/New_York:20250418T183000
DTEND;TZID=America/New_York:20250418T200000
DTSTAMP:20260424T065602
CREATED:20250314T193033Z
LAST-MODIFIED:20250314T193034Z
UID:10001009-1745001000-1745006400@richmondhill.org
SUMMARY:Good Friday Service
DESCRIPTION:Join us for our Good Friday service at 6:30 on April 18th.
URL:https://richmondhill.org/event/good-friday-service/
CATEGORIES:Easter
ATTACH;FMTTYPE=image/png:https://richmondhill.org/wp-content/uploads/2025/03/Easter-2025.png
END:VEVENT
BEGIN:VEVENT
DTSTART;TZID=America/New_York:20250413T120000
DTEND;TZID=America/New_York:20250413T140000
DTSTAMP:20260424T065602
CREATED:20250314T192241Z
LAST-MODIFIED:20250314T192242Z
UID:10001005-1744545600-1744552800@richmondhill.org
SUMMARY:Spring Picnic
DESCRIPTION:We are excited to host our 2nd Annual Spring Family Picnic on Sunday\, April 13th\, right after our 10:30am service!  This event will be open to the entire community and church family. We’ll be having an afternoon of fun with an Egg Hunt\, Food\, & Games. We need help putting together this special event\, though\, and that’s where you can help! If you’re willing to help serve on a team for helping to set up and serve at this event\, please sign up here! If you are not able to serve but would like to bring a covered side dish\, please sign up here\, as well\, and let us know what you would like to bring! If you have any further questions\, please reach out to Jeannine Johnson (jeannine@richmondhill.org).
URL:https://richmondhill.org/event/spring-picnic/
CATEGORIES:Easter
ATTACH;FMTTYPE=image/png:https://richmondhill.org/wp-content/uploads/2025/03/Spring-PICNIC.png
END:VEVENT
END:VCALENDAR