BEGIN:VCALENDAR
VERSION:2.0
PRODID:-//Richmond Hill - ECPv6.15.18//NONSGML v1.0//EN
CALSCALE:GREGORIAN
METHOD:PUBLISH
X-WR-CALNAME:Richmond Hill
X-ORIGINAL-URL:https://richmondhill.org
X-WR-CALDESC:Events for Richmond Hill
REFRESH-INTERVAL;VALUE=DURATION:PT1H
X-Robots-Tag:noindex
X-PUBLISHED-TTL:PT1H
BEGIN:VTIMEZONE
TZID:America/New_York
BEGIN:DAYLIGHT
TZOFFSETFROM:-0500
TZOFFSETTO:-0400
TZNAME:EDT
DTSTART:20240310T070000
END:DAYLIGHT
BEGIN:STANDARD
TZOFFSETFROM:-0400
TZOFFSETTO:-0500
TZNAME:EST
DTSTART:20241103T060000
END:STANDARD
BEGIN:DAYLIGHT
TZOFFSETFROM:-0500
TZOFFSETTO:-0400
TZNAME:EDT
DTSTART:20250309T070000
END:DAYLIGHT
BEGIN:STANDARD
TZOFFSETFROM:-0400
TZOFFSETTO:-0500
TZNAME:EST
DTSTART:20251102T060000
END:STANDARD
BEGIN:DAYLIGHT
TZOFFSETFROM:-0500
TZOFFSETTO:-0400
TZNAME:EDT
DTSTART:20260308T070000
END:DAYLIGHT
BEGIN:STANDARD
TZOFFSETFROM:-0400
TZOFFSETTO:-0500
TZNAME:EST
DTSTART:20261101T060000
END:STANDARD
END:VTIMEZONE
BEGIN:VEVENT
DTSTART;VALUE=DATE:20250810
DTEND;VALUE=DATE:20250811
DTSTAMP:20260423T202727
CREATED:20250811T224805Z
LAST-MODIFIED:20250811T224807Z
UID:10001406-1754784000-1754870399@richmondhill.org
SUMMARY:Promotion Sunday
DESCRIPTION:
URL:https://richmondhill.org/event/promotion-sunday-2/
CATEGORIES:kids,Students
ATTACH;FMTTYPE=image/png:https://richmondhill.org/wp-content/uploads/2025/08/Promotion-Sunday-1.png
END:VEVENT
BEGIN:VEVENT
DTSTART;VALUE=DATE:20250629
DTEND;VALUE=DATE:20250704
DTSTAMP:20260423T202727
CREATED:20241218T161921Z
LAST-MODIFIED:20250225T143826Z
UID:10000036-1751155200-1751587199@richmondhill.org
SUMMARY:CentriKid Camp
DESCRIPTION:We are inviting you to explore our calling and join us as we go “Higher.”  At CentriKid 2025\, kids will discover what it means to live out our calling through the adventure of following Christ!
URL:https://richmondhill.org/event/centrikid-camp/
CATEGORIES:kids
ATTACH;FMTTYPE=image/webp:https://richmondhill.org/wp-content/uploads/2024/12/Higher.webp
END:VEVENT
BEGIN:VEVENT
DTSTART;TZID=America/New_York:20250602T180000
DTEND;TZID=America/New_York:20250606T203000
DTSTAMP:20260423T202727
CREATED:20241218T161804Z
LAST-MODIFIED:20250113T205355Z
UID:10000035-1748887200-1749241800@richmondhill.org
SUMMARY:Vacation Bible School
DESCRIPTION:Magnified! VBS will encourage kids to look closely at the details of God’s amazing world and magnify\, or proclaim\, the greatness of God. God made us\, cares about us\, loves us\, forgives us\, and is faithful to keep all His promises to us. We can praise God together! We were made to magnify God!
URL:https://richmondhill.org/event/vacation-bible-school/
CATEGORIES:kids
ATTACH;FMTTYPE=image/webp:https://richmondhill.org/wp-content/uploads/2024/12/Magnified.webp
END:VEVENT
BEGIN:VEVENT
DTSTART;TZID=America/New_York:20250326T180000
DTEND;TZID=America/New_York:20250326T183000
DTSTAMP:20260423T202727
CREATED:20250314T191629Z
LAST-MODIFIED:20250314T191631Z
UID:10001004-1743012000-1743013800@richmondhill.org
SUMMARY:Kids & Students Fundraising Dinner (Summer Camps)
DESCRIPTION:Our FBC Kids and FBC Students will be hosting a fundraising dinner on Wednesday\, March 26th. The minimum suggested donation is $7 per dinner\, and all money raised will go straight to helping to send our Kids and Students to camp this summer. Please use this form to sign up so we can have a count for food! Suggested donations will be collected at pickup – these will need to be cash or check only. (No change.) You will be able to pick up your dinners between 6:00 – 6:30 on the 26th! Thank you for your support!
URL:https://richmondhill.org/event/kids-students-fundraising-dinner-summer-camps/
CATEGORIES:kids,Students
ATTACH;FMTTYPE=image/png:https://richmondhill.org/wp-content/uploads/2025/03/fudraising-dinner.png
END:VEVENT
END:VCALENDAR