BEGIN:VCALENDAR
VERSION:2.0
PRODID:-//Richmond Hill - ECPv6.15.18//NONSGML v1.0//EN
CALSCALE:GREGORIAN
METHOD:PUBLISH
X-WR-CALNAME:Richmond Hill
X-ORIGINAL-URL:https://richmondhill.org
X-WR-CALDESC:Events for Richmond Hill
REFRESH-INTERVAL;VALUE=DURATION:PT1H
X-Robots-Tag:noindex
X-PUBLISHED-TTL:PT1H
BEGIN:VTIMEZONE
TZID:America/New_York
BEGIN:DAYLIGHT
TZOFFSETFROM:-0500
TZOFFSETTO:-0400
TZNAME:EDT
DTSTART:20240310T070000
END:DAYLIGHT
BEGIN:STANDARD
TZOFFSETFROM:-0400
TZOFFSETTO:-0500
TZNAME:EST
DTSTART:20241103T060000
END:STANDARD
BEGIN:DAYLIGHT
TZOFFSETFROM:-0500
TZOFFSETTO:-0400
TZNAME:EDT
DTSTART:20250309T070000
END:DAYLIGHT
BEGIN:STANDARD
TZOFFSETFROM:-0400
TZOFFSETTO:-0500
TZNAME:EST
DTSTART:20251102T060000
END:STANDARD
BEGIN:DAYLIGHT
TZOFFSETFROM:-0500
TZOFFSETTO:-0400
TZNAME:EDT
DTSTART:20260308T070000
END:DAYLIGHT
BEGIN:STANDARD
TZOFFSETFROM:-0400
TZOFFSETTO:-0500
TZNAME:EST
DTSTART:20261101T060000
END:STANDARD
BEGIN:DAYLIGHT
TZOFFSETFROM:-0500
TZOFFSETTO:-0400
TZNAME:EDT
DTSTART:20270314T070000
END:DAYLIGHT
BEGIN:STANDARD
TZOFFSETFROM:-0400
TZOFFSETTO:-0500
TZNAME:EST
DTSTART:20271107T060000
END:STANDARD
END:VTIMEZONE
BEGIN:VEVENT
DTSTART;TZID=America/New_York:20260301T103000
DTEND;TZID=America/New_York:20260301T120000
DTSTAMP:20260423T135636
CREATED:20260114T193354Z
LAST-MODIFIED:20260318T131536Z
UID:10001541-1772361000-1772366400@richmondhill.org
SUMMARY:Member Connections: Catch the Vision
DESCRIPTION:Our Member Connections classes will help guide you through the membership journey here at FBC! This is a 2 week series – held the 1st & 2nd Sundays of every other month – that will walk you through our church’s beliefs\, what it looks like to be a member\, as well as help you get connected into the church family in discipleship & service. \nThe next Member Connections will take place on May 3rd and May 10th at 10:30. This registration form is for both classes. \nPlease register no later than the Wednesday before so we can have a final count for these classes. \nConnections 101: Catch the Vision\nOpen to anyone who would like to learn more about our church and our core beliefs. You will also be given the opportunity to join our church family & get further connected within our church. \nConnections 201: Discover Your Place\nOpen to all members to discover how your gifts\, personalities\, passions\, & life experiences are beautifully coordinated to find the right place of connection and service here at FBC! \nIf you have children\, our FBC Kids meets in Sunday Groups at 10:30. FBC Students will be attending the 10:30 Worship Service.
URL:https://richmondhill.org/event/member-connections-catch-the-vision-2/2026-03-01/
CATEGORIES:Member Connections
ATTACH;FMTTYPE=image/png:https://richmondhill.org/wp-content/uploads/2026/03/Member-Connections.png
END:VEVENT
BEGIN:VEVENT
DTSTART;TZID=America/New_York:20260111T103000
DTEND;TZID=America/New_York:20260111T120000
DTSTAMP:20260423T135636
CREATED:20251121T151022Z
LAST-MODIFIED:20251121T151023Z
UID:10001417-1768127400-1768132800@richmondhill.org
SUMMARY:Member Connections: Discover Your Place
DESCRIPTION:Our Member Connections classes will help guide you through the membership journey here at FBC! This is a 2 week series – held the 1st & 2nd Sundays of every other month – that will walk you through our church’s beliefs\, what it looks like to be a member\, as well as help you get connected into the church family in discipleship & service. The next Member Connections will take place on January 4th and January 11th at 10:30. This registration form is for both classes. Please register no later than 12/31/25\, so we can have a final count for these classes.
URL:https://richmondhill.org/event/member-connections-discover-your-place-2/
CATEGORIES:Member Connections
ATTACH;FMTTYPE=image/png:https://richmondhill.org/wp-content/uploads/2025/11/Member-Connections.png
END:VEVENT
BEGIN:VEVENT
DTSTART;TZID=America/New_York:20260104T103000
DTEND;TZID=America/New_York:20260104T120000
DTSTAMP:20260423T135636
CREATED:20251121T150752Z
LAST-MODIFIED:20251121T150753Z
UID:10001416-1767522600-1767528000@richmondhill.org
SUMMARY:Member Connection: Catch the Vision
DESCRIPTION:Our Member Connections classes will help guide you through the membership journey here at FBC! This is a 2 week series – held the 1st & 2nd Sundays of every other month – that will walk you through our church’s beliefs\, what it looks like to be a member\, as well as help you get connected into the church family in discipleship & service. The next Member Connections will take place on January 4th and January 11th at 10:30. This registration form is for both classes. Please register no later than 12/31/25\, so we can have a final count for these classes.
URL:https://richmondhill.org/event/member-connection-catch-the-vision/
CATEGORIES:Member Connections
ATTACH;FMTTYPE=image/png:https://richmondhill.org/wp-content/uploads/2025/11/Member-Connections.png
END:VEVENT
BEGIN:VEVENT
DTSTART;TZID=America/New_York:20250713T103000
DTEND;TZID=America/New_York:20250713T120000
DTSTAMP:20260423T135636
CREATED:20250626T171239Z
LAST-MODIFIED:20250626T171240Z
UID:10001058-1752402600-1752408000@richmondhill.org
SUMMARY:Member Connections
DESCRIPTION:Our Member Connections classes will help guide you through the membership journey here at FBC! This is a 2 week series that will walk you through our church’s beliefs\, what it looks like to be a member\, as well as help you get connected into the church family in discipleship & service. Our next Member Connections will be on July 6th and July 13th at 10:30! If you would like to be a part of this series coming up\, please register by 7/2 so we can have a count for the classes!
URL:https://richmondhill.org/event/member-connections-2/
CATEGORIES:Member Connections
ATTACH;FMTTYPE=image/png:https://richmondhill.org/wp-content/uploads/2025/06/Member-Connections-1.png
END:VEVENT
BEGIN:VEVENT
DTSTART;TZID=America/New_York:20250706T103000
DTEND;TZID=America/New_York:20250706T120000
DTSTAMP:20260423T135636
CREATED:20250626T170959Z
LAST-MODIFIED:20250626T171000Z
UID:10001057-1751797800-1751803200@richmondhill.org
SUMMARY:Member Connections
DESCRIPTION:Our Member Connections classes will help guide you through the membership journey here at FBC! This is a 2 week series that will walk you through our church’s beliefs\, what it looks like to be a member\, as well as help you get connected into the church family in discipleship & service. Our next Member Connections will be on July 6th and July 13th at 10:30! If you would like to be a part of this series coming up\, please register by 7/2 so we can have a count for the classes!
URL:https://richmondhill.org/event/member-connections/
CATEGORIES:Member Connections
ATTACH;FMTTYPE=image/png:https://richmondhill.org/wp-content/uploads/2025/06/Member-Connections.png
END:VEVENT
BEGIN:VEVENT
DTSTART;TZID=America/New_York:20250511T103000
DTEND;TZID=America/New_York:20250511T120000
DTSTAMP:20260423T135636
CREATED:20250410T152748Z
LAST-MODIFIED:20250410T152749Z
UID:10001012-1746959400-1746964800@richmondhill.org
SUMMARY:Member Connections: Discover Your Place
DESCRIPTION:Connections 201: Discover Your Place\nOpen to all members to discover how your gifts\, personalities\, passions\, & life experiences are beautifully coordinated to find the right place of connection and service here at FBC!
URL:https://richmondhill.org/event/member-connections-discover-your-place/
CATEGORIES:Member Connections
ATTACH;FMTTYPE=image/png:https://richmondhill.org/wp-content/uploads/2025/04/Member-Connections-14.png
END:VEVENT
BEGIN:VEVENT
DTSTART;TZID=America/New_York:20250504T103000
DTEND;TZID=America/New_York:20250504T120000
DTSTAMP:20260423T135636
CREATED:20250410T152621Z
LAST-MODIFIED:20250410T152850Z
UID:10001011-1746354600-1746360000@richmondhill.org
SUMMARY:Member Connections: Catch the Vision
DESCRIPTION:Connections 101: Catch the Vision\nOpen to anyone who would like to learn more about our church and our core beliefs. You will also be given the opportunity to join our church family & get further connected within our church.
URL:https://richmondhill.org/event/member-connections-catch-the-vision/
CATEGORIES:Member Connections
ATTACH;FMTTYPE=image/png:https://richmondhill.org/wp-content/uploads/2025/04/Member-Connections-14.png
END:VEVENT
BEGIN:VEVENT
DTSTART;TZID=America/New_York:20250309T103000
DTEND;TZID=America/New_York:20250309T120000
DTSTAMP:20260423T135636
CREATED:20250128T151748Z
LAST-MODIFIED:20250128T151748Z
UID:10000568-1741516200-1741521600@richmondhill.org
SUMMARY:Discover Your Place
DESCRIPTION:It is our desire that every current member at FBC discovers their place in discipleship and service within our church family. We want to help you Discover Your Place by taking our Connections 201 class. This class will walk you through discovering your Spiritual Gifts\, Personality Types\, Skills\, Passions\, and Life Experiences — and learning how all of that impacts your areas of connection here at FBC! Our next class will be held on March 9th at 10:30am\, so we ask that you please register no later than March 5th. We look forward to seeing you!
URL:https://richmondhill.org/event/discover-your-place/
CATEGORIES:Member Connections
ATTACH;FMTTYPE=image/png:https://richmondhill.org/wp-content/uploads/2025/01/Announcements-_Discover-Your-Place_MARCH.png
END:VEVENT
BEGIN:VEVENT
DTSTART;TZID=America/New_York:20250309T103000
DTEND;TZID=America/New_York:20250309T120000
DTSTAMP:20260423T135636
CREATED:20250128T150945Z
LAST-MODIFIED:20250128T150945Z
UID:10000567-1741516200-1741521600@richmondhill.org
SUMMARY:Member Connections - March 2 & 9
DESCRIPTION:Our Member Connections classes will help guide you through the membership journey here at FBC! This is a 2 week series – held the 1st & 2nd Sundays of every other month – that will walk you through our church’s beliefs\, what it looks like to be a member\, as well as help you get connected into the church family in discipleship & service. The next Member Connections will take place on March 2nd & 9th at 10:30 in room D105. This registration form is for both classes. Please register no later than 2/26/25\, so we can have a final count for these classes.
URL:https://richmondhill.org/event/member-connections-march-2-9/2025-03-09/
CATEGORIES:Member Connections
ATTACH;FMTTYPE=image/png:https://richmondhill.org/wp-content/uploads/2025/01/Member-Connections-13.png
END:VEVENT
BEGIN:VEVENT
DTSTART;TZID=America/New_York:20250302T103000
DTEND;TZID=America/New_York:20250302T120000
DTSTAMP:20260423T135636
CREATED:20250128T150945Z
LAST-MODIFIED:20250128T150945Z
UID:10000566-1740911400-1740916800@richmondhill.org
SUMMARY:Member Connections - March 2 & 9
DESCRIPTION:Our Member Connections classes will help guide you through the membership journey here at FBC! This is a 2 week series – held the 1st & 2nd Sundays of every other month – that will walk you through our church’s beliefs\, what it looks like to be a member\, as well as help you get connected into the church family in discipleship & service. The next Member Connections will take place on March 2nd & 9th at 10:30 in room D105. This registration form is for both classes. Please register no later than 2/26/25\, so we can have a final count for these classes.
URL:https://richmondhill.org/event/member-connections-march-2-9/2025-03-02/
CATEGORIES:Member Connections
ATTACH;FMTTYPE=image/png:https://richmondhill.org/wp-content/uploads/2025/01/Member-Connections-13.png
END:VEVENT
END:VCALENDAR