BEGIN:VCALENDAR
VERSION:2.0
PRODID:-//Richmond Hill - ECPv6.15.18//NONSGML v1.0//EN
CALSCALE:GREGORIAN
METHOD:PUBLISH
X-ORIGINAL-URL:https://richmondhill.org
X-WR-CALDESC:Events for Richmond Hill
REFRESH-INTERVAL;VALUE=DURATION:PT1H
X-Robots-Tag:noindex
X-PUBLISHED-TTL:PT1H
BEGIN:VTIMEZONE
TZID:America/New_York
BEGIN:DAYLIGHT
TZOFFSETFROM:-0500
TZOFFSETTO:-0400
TZNAME:EDT
DTSTART:20240310T070000
END:DAYLIGHT
BEGIN:STANDARD
TZOFFSETFROM:-0400
TZOFFSETTO:-0500
TZNAME:EST
DTSTART:20241103T060000
END:STANDARD
BEGIN:DAYLIGHT
TZOFFSETFROM:-0500
TZOFFSETTO:-0400
TZNAME:EDT
DTSTART:20250309T070000
END:DAYLIGHT
BEGIN:STANDARD
TZOFFSETFROM:-0400
TZOFFSETTO:-0500
TZNAME:EST
DTSTART:20251102T060000
END:STANDARD
BEGIN:DAYLIGHT
TZOFFSETFROM:-0500
TZOFFSETTO:-0400
TZNAME:EDT
DTSTART:20260308T070000
END:DAYLIGHT
BEGIN:STANDARD
TZOFFSETFROM:-0400
TZOFFSETTO:-0500
TZNAME:EST
DTSTART:20261101T060000
END:STANDARD
BEGIN:DAYLIGHT
TZOFFSETFROM:-0500
TZOFFSETTO:-0400
TZNAME:EDT
DTSTART:20270314T070000
END:DAYLIGHT
BEGIN:STANDARD
TZOFFSETFROM:-0400
TZOFFSETTO:-0500
TZNAME:EST
DTSTART:20271107T060000
END:STANDARD
END:VTIMEZONE
BEGIN:VEVENT
DTSTART;TZID=America/New_York:20260126T183000
DTEND;TZID=America/New_York:20260126T200000
DTSTAMP:20260423T152316
CREATED:20260114T171038Z
LAST-MODIFIED:20260114T171038Z
UID:10001500-1769452200-1769457600@richmondhill.org
SUMMARY:Men & Teens Bible Study
DESCRIPTION:
URL:https://richmondhill.org/event/men-teens-bible-study/2026-01-26/
CATEGORIES:Men
ATTACH;FMTTYPE=image/png:https://richmondhill.org/wp-content/uploads/2026/01/BIBLE-STUDY-copy.png
END:VEVENT
BEGIN:VEVENT
DTSTART;TZID=America/New_York:20260119T183000
DTEND;TZID=America/New_York:20260119T200000
DTSTAMP:20260423T152316
CREATED:20260114T171038Z
LAST-MODIFIED:20260114T171038Z
UID:10001499-1768847400-1768852800@richmondhill.org
SUMMARY:Men & Teens Bible Study
DESCRIPTION:
URL:https://richmondhill.org/event/men-teens-bible-study/2026-01-19/
CATEGORIES:Men
ATTACH;FMTTYPE=image/png:https://richmondhill.org/wp-content/uploads/2026/01/BIBLE-STUDY-copy.png
END:VEVENT
BEGIN:VEVENT
DTSTART;TZID=America/New_York:20260112T183000
DTEND;TZID=America/New_York:20260112T200000
DTSTAMP:20260423T152316
CREATED:20260114T171038Z
LAST-MODIFIED:20260114T171038Z
UID:10001498-1768242600-1768248000@richmondhill.org
SUMMARY:Men & Teens Bible Study
DESCRIPTION:
URL:https://richmondhill.org/event/men-teens-bible-study/2026-01-12/
CATEGORIES:Men
ATTACH;FMTTYPE=image/png:https://richmondhill.org/wp-content/uploads/2026/01/BIBLE-STUDY-copy.png
END:VEVENT
BEGIN:VEVENT
DTSTART;TZID=America/New_York:20260105T183000
DTEND;TZID=America/New_York:20260105T200000
DTSTAMP:20260423T152316
CREATED:20260114T171038Z
LAST-MODIFIED:20260114T171038Z
UID:10001497-1767637800-1767643200@richmondhill.org
SUMMARY:Men & Teens Bible Study
DESCRIPTION:
URL:https://richmondhill.org/event/men-teens-bible-study/2026-01-05/
CATEGORIES:Men
ATTACH;FMTTYPE=image/png:https://richmondhill.org/wp-content/uploads/2026/01/BIBLE-STUDY-copy.png
END:VEVENT
BEGIN:VEVENT
DTSTART;TZID=America/New_York:20250811T183000
DTEND;TZID=America/New_York:20250811T200000
DTSTAMP:20260423T152316
CREATED:20250513T212314Z
LAST-MODIFIED:20250513T212314Z
UID:10001043-1754937000-1754942400@richmondhill.org
SUMMARY:Men\, Women\, & Teens Bible Study
DESCRIPTION:Starting Monday\, May 12th\, we will be having a joint Men\, Women\, & Teens Bible Study taught by Kevin Dennis. Childcare will be provided! We’ll be meeting Monday evenings at 6:30 in D115 and will be studying the book of Romans together throughout the summer. This is open to all Men\, Women\, & Teens – we hope to have you join us!
URL:https://richmondhill.org/event/men-women-teens-bible-study/2025-08-11/
CATEGORIES:Men,Students,women
ATTACH;FMTTYPE=image/png:https://richmondhill.org/wp-content/uploads/2025/05/Men-Women-Teens-Bible-STUDY.png
END:VEVENT
BEGIN:VEVENT
DTSTART;TZID=America/New_York:20250804T183000
DTEND;TZID=America/New_York:20250804T200000
DTSTAMP:20260423T152316
CREATED:20250513T212314Z
LAST-MODIFIED:20250513T212314Z
UID:10001042-1754332200-1754337600@richmondhill.org
SUMMARY:Men\, Women\, & Teens Bible Study
DESCRIPTION:Starting Monday\, May 12th\, we will be having a joint Men\, Women\, & Teens Bible Study taught by Kevin Dennis. Childcare will be provided! We’ll be meeting Monday evenings at 6:30 in D115 and will be studying the book of Romans together throughout the summer. This is open to all Men\, Women\, & Teens – we hope to have you join us!
URL:https://richmondhill.org/event/men-women-teens-bible-study/2025-08-04/
CATEGORIES:Men,Students,women
ATTACH;FMTTYPE=image/png:https://richmondhill.org/wp-content/uploads/2025/05/Men-Women-Teens-Bible-STUDY.png
END:VEVENT
BEGIN:VEVENT
DTSTART;TZID=America/New_York:20250728T183000
DTEND;TZID=America/New_York:20250728T200000
DTSTAMP:20260423T152316
CREATED:20250513T212314Z
LAST-MODIFIED:20250513T212314Z
UID:10001041-1753727400-1753732800@richmondhill.org
SUMMARY:Men\, Women\, & Teens Bible Study
DESCRIPTION:Starting Monday\, May 12th\, we will be having a joint Men\, Women\, & Teens Bible Study taught by Kevin Dennis. Childcare will be provided! We’ll be meeting Monday evenings at 6:30 in D115 and will be studying the book of Romans together throughout the summer. This is open to all Men\, Women\, & Teens – we hope to have you join us!
URL:https://richmondhill.org/event/men-women-teens-bible-study/2025-07-28/
CATEGORIES:Men,Students,women
ATTACH;FMTTYPE=image/png:https://richmondhill.org/wp-content/uploads/2025/05/Men-Women-Teens-Bible-STUDY.png
END:VEVENT
BEGIN:VEVENT
DTSTART;TZID=America/New_York:20250721T183000
DTEND;TZID=America/New_York:20250721T200000
DTSTAMP:20260423T152316
CREATED:20250513T212314Z
LAST-MODIFIED:20250513T212314Z
UID:10001040-1753122600-1753128000@richmondhill.org
SUMMARY:Men\, Women\, & Teens Bible Study
DESCRIPTION:Starting Monday\, May 12th\, we will be having a joint Men\, Women\, & Teens Bible Study taught by Kevin Dennis. Childcare will be provided! We’ll be meeting Monday evenings at 6:30 in D115 and will be studying the book of Romans together throughout the summer. This is open to all Men\, Women\, & Teens – we hope to have you join us!
URL:https://richmondhill.org/event/men-women-teens-bible-study/2025-07-21/
CATEGORIES:Men,Students,women
ATTACH;FMTTYPE=image/png:https://richmondhill.org/wp-content/uploads/2025/05/Men-Women-Teens-Bible-STUDY.png
END:VEVENT
BEGIN:VEVENT
DTSTART;TZID=America/New_York:20250714T183000
DTEND;TZID=America/New_York:20250714T200000
DTSTAMP:20260423T152316
CREATED:20250513T212314Z
LAST-MODIFIED:20250513T212314Z
UID:10001039-1752517800-1752523200@richmondhill.org
SUMMARY:Men\, Women\, & Teens Bible Study
DESCRIPTION:Starting Monday\, May 12th\, we will be having a joint Men\, Women\, & Teens Bible Study taught by Kevin Dennis. Childcare will be provided! We’ll be meeting Monday evenings at 6:30 in D115 and will be studying the book of Romans together throughout the summer. This is open to all Men\, Women\, & Teens – we hope to have you join us!
URL:https://richmondhill.org/event/men-women-teens-bible-study/2025-07-14/
CATEGORIES:Men,Students,women
ATTACH;FMTTYPE=image/png:https://richmondhill.org/wp-content/uploads/2025/05/Men-Women-Teens-Bible-STUDY.png
END:VEVENT
BEGIN:VEVENT
DTSTART;TZID=America/New_York:20250707T183000
DTEND;TZID=America/New_York:20250707T200000
DTSTAMP:20260423T152316
CREATED:20250513T212314Z
LAST-MODIFIED:20250513T212314Z
UID:10001038-1751913000-1751918400@richmondhill.org
SUMMARY:Men\, Women\, & Teens Bible Study
DESCRIPTION:Starting Monday\, May 12th\, we will be having a joint Men\, Women\, & Teens Bible Study taught by Kevin Dennis. Childcare will be provided! We’ll be meeting Monday evenings at 6:30 in D115 and will be studying the book of Romans together throughout the summer. This is open to all Men\, Women\, & Teens – we hope to have you join us!
URL:https://richmondhill.org/event/men-women-teens-bible-study/2025-07-07/
CATEGORIES:Men,Students,women
ATTACH;FMTTYPE=image/png:https://richmondhill.org/wp-content/uploads/2025/05/Men-Women-Teens-Bible-STUDY.png
END:VEVENT
BEGIN:VEVENT
DTSTART;TZID=America/New_York:20250630T183000
DTEND;TZID=America/New_York:20250630T200000
DTSTAMP:20260423T152316
CREATED:20250513T212314Z
LAST-MODIFIED:20250513T212314Z
UID:10001037-1751308200-1751313600@richmondhill.org
SUMMARY:Men\, Women\, & Teens Bible Study
DESCRIPTION:Starting Monday\, May 12th\, we will be having a joint Men\, Women\, & Teens Bible Study taught by Kevin Dennis. Childcare will be provided! We’ll be meeting Monday evenings at 6:30 in D115 and will be studying the book of Romans together throughout the summer. This is open to all Men\, Women\, & Teens – we hope to have you join us!
URL:https://richmondhill.org/event/men-women-teens-bible-study/2025-06-30/
CATEGORIES:Men,Students,women
ATTACH;FMTTYPE=image/png:https://richmondhill.org/wp-content/uploads/2025/05/Men-Women-Teens-Bible-STUDY.png
END:VEVENT
BEGIN:VEVENT
DTSTART;TZID=America/New_York:20250623T183000
DTEND;TZID=America/New_York:20250623T200000
DTSTAMP:20260423T152316
CREATED:20250513T212314Z
LAST-MODIFIED:20250513T212314Z
UID:10001036-1750703400-1750708800@richmondhill.org
SUMMARY:Men\, Women\, & Teens Bible Study
DESCRIPTION:Starting Monday\, May 12th\, we will be having a joint Men\, Women\, & Teens Bible Study taught by Kevin Dennis. Childcare will be provided! We’ll be meeting Monday evenings at 6:30 in D115 and will be studying the book of Romans together throughout the summer. This is open to all Men\, Women\, & Teens – we hope to have you join us!
URL:https://richmondhill.org/event/men-women-teens-bible-study/2025-06-23/
CATEGORIES:Men,Students,women
ATTACH;FMTTYPE=image/png:https://richmondhill.org/wp-content/uploads/2025/05/Men-Women-Teens-Bible-STUDY.png
END:VEVENT
BEGIN:VEVENT
DTSTART;TZID=America/New_York:20250616T183000
DTEND;TZID=America/New_York:20250616T200000
DTSTAMP:20260423T152316
CREATED:20250513T212314Z
LAST-MODIFIED:20250513T212314Z
UID:10001035-1750098600-1750104000@richmondhill.org
SUMMARY:Men\, Women\, & Teens Bible Study
DESCRIPTION:Starting Monday\, May 12th\, we will be having a joint Men\, Women\, & Teens Bible Study taught by Kevin Dennis. Childcare will be provided! We’ll be meeting Monday evenings at 6:30 in D115 and will be studying the book of Romans together throughout the summer. This is open to all Men\, Women\, & Teens – we hope to have you join us!
URL:https://richmondhill.org/event/men-women-teens-bible-study/2025-06-16/
CATEGORIES:Men,Students,women
ATTACH;FMTTYPE=image/png:https://richmondhill.org/wp-content/uploads/2025/05/Men-Women-Teens-Bible-STUDY.png
END:VEVENT
BEGIN:VEVENT
DTSTART;TZID=America/New_York:20250609T183000
DTEND;TZID=America/New_York:20250609T200000
DTSTAMP:20260423T152316
CREATED:20250513T212314Z
LAST-MODIFIED:20250513T212314Z
UID:10001034-1749493800-1749499200@richmondhill.org
SUMMARY:Men\, Women\, & Teens Bible Study
DESCRIPTION:Starting Monday\, May 12th\, we will be having a joint Men\, Women\, & Teens Bible Study taught by Kevin Dennis. Childcare will be provided! We’ll be meeting Monday evenings at 6:30 in D115 and will be studying the book of Romans together throughout the summer. This is open to all Men\, Women\, & Teens – we hope to have you join us!
URL:https://richmondhill.org/event/men-women-teens-bible-study/2025-06-09/
CATEGORIES:Men,Students,women
ATTACH;FMTTYPE=image/png:https://richmondhill.org/wp-content/uploads/2025/05/Men-Women-Teens-Bible-STUDY.png
END:VEVENT
BEGIN:VEVENT
DTSTART;TZID=America/New_York:20250526T183000
DTEND;TZID=America/New_York:20250526T200000
DTSTAMP:20260423T152316
CREATED:20250513T212314Z
LAST-MODIFIED:20250513T212314Z
UID:10001033-1748284200-1748289600@richmondhill.org
SUMMARY:Men\, Women\, & Teens Bible Study
DESCRIPTION:Starting Monday\, May 12th\, we will be having a joint Men\, Women\, & Teens Bible Study taught by Kevin Dennis. Childcare will be provided! We’ll be meeting Monday evenings at 6:30 in D115 and will be studying the book of Romans together throughout the summer. This is open to all Men\, Women\, & Teens – we hope to have you join us!
URL:https://richmondhill.org/event/men-women-teens-bible-study/2025-05-26/
CATEGORIES:Men,Students,women
ATTACH;FMTTYPE=image/png:https://richmondhill.org/wp-content/uploads/2025/05/Men-Women-Teens-Bible-STUDY.png
END:VEVENT
BEGIN:VEVENT
DTSTART;TZID=America/New_York:20250519T183000
DTEND;TZID=America/New_York:20250519T200000
DTSTAMP:20260423T152316
CREATED:20250513T212314Z
LAST-MODIFIED:20250513T212314Z
UID:10001032-1747679400-1747684800@richmondhill.org
SUMMARY:Men\, Women\, & Teens Bible Study
DESCRIPTION:Starting Monday\, May 12th\, we will be having a joint Men\, Women\, & Teens Bible Study taught by Kevin Dennis. Childcare will be provided! We’ll be meeting Monday evenings at 6:30 in D115 and will be studying the book of Romans together throughout the summer. This is open to all Men\, Women\, & Teens – we hope to have you join us!
URL:https://richmondhill.org/event/men-women-teens-bible-study/2025-05-19/
CATEGORIES:Men,Students,women
ATTACH;FMTTYPE=image/png:https://richmondhill.org/wp-content/uploads/2025/05/Men-Women-Teens-Bible-STUDY.png
END:VEVENT
BEGIN:VEVENT
DTSTART;TZID=America/New_York:20250512T183000
DTEND;TZID=America/New_York:20250512T200000
DTSTAMP:20260423T152316
CREATED:20250513T212314Z
LAST-MODIFIED:20250513T212314Z
UID:10001031-1747074600-1747080000@richmondhill.org
SUMMARY:Men\, Women\, & Teens Bible Study
DESCRIPTION:Starting Monday\, May 12th\, we will be having a joint Men\, Women\, & Teens Bible Study taught by Kevin Dennis. Childcare will be provided! We’ll be meeting Monday evenings at 6:30 in D115 and will be studying the book of Romans together throughout the summer. This is open to all Men\, Women\, & Teens – we hope to have you join us!
URL:https://richmondhill.org/event/men-women-teens-bible-study/2025-05-12/
CATEGORIES:Men,Students,women
ATTACH;FMTTYPE=image/png:https://richmondhill.org/wp-content/uploads/2025/05/Men-Women-Teens-Bible-STUDY.png
END:VEVENT
END:VCALENDAR