BEGIN:VCALENDAR
VERSION:2.0
PRODID:-//Richmond Hill - ECPv6.15.18//NONSGML v1.0//EN
CALSCALE:GREGORIAN
METHOD:PUBLISH
X-ORIGINAL-URL:https://richmondhill.org
X-WR-CALDESC:Events for Richmond Hill
REFRESH-INTERVAL;VALUE=DURATION:PT1H
X-Robots-Tag:noindex
X-PUBLISHED-TTL:PT1H
BEGIN:VTIMEZONE
TZID:America/New_York
BEGIN:DAYLIGHT
TZOFFSETFROM:-0500
TZOFFSETTO:-0400
TZNAME:EDT
DTSTART:20240310T070000
END:DAYLIGHT
BEGIN:STANDARD
TZOFFSETFROM:-0400
TZOFFSETTO:-0500
TZNAME:EST
DTSTART:20241103T060000
END:STANDARD
BEGIN:DAYLIGHT
TZOFFSETFROM:-0500
TZOFFSETTO:-0400
TZNAME:EDT
DTSTART:20250309T070000
END:DAYLIGHT
BEGIN:STANDARD
TZOFFSETFROM:-0400
TZOFFSETTO:-0500
TZNAME:EST
DTSTART:20251102T060000
END:STANDARD
BEGIN:DAYLIGHT
TZOFFSETFROM:-0500
TZOFFSETTO:-0400
TZNAME:EDT
DTSTART:20260308T070000
END:DAYLIGHT
BEGIN:STANDARD
TZOFFSETFROM:-0400
TZOFFSETTO:-0500
TZNAME:EST
DTSTART:20261101T060000
END:STANDARD
END:VTIMEZONE
BEGIN:VEVENT
DTSTART;TZID=America/New_York:20250131T180000
DTEND;TZID=America/New_York:20250201T223000
DTSTAMP:20260424T141622
CREATED:20241218T161603Z
LAST-MODIFIED:20250113T202700Z
UID:10000033-1738346400-1738449000@richmondhill.org
SUMMARY:Men & Teens Conference with Matthew Maher
DESCRIPTION:We are excited to host Matthew Maher for our Men & Teens Conference on January 31st – February 1st. This two-day conference will include 4 meals\, activities\, and hearing from Matthew Maher in person. We encourage ALL men ages 13+ to attend! Cost is $25 to cover food & expenses.
URL:https://richmondhill.org/event/men-teens-conference-with-matthew-maher/
CATEGORIES:Students
ATTACH;FMTTYPE=image/webp:https://richmondhill.org/wp-content/uploads/2024/12/Men-Teens-Conference.webp
END:VEVENT
END:VCALENDAR