BEGIN:VCALENDAR
VERSION:2.0
PRODID:-//Richmond Hill - ECPv6.15.18//NONSGML v1.0//EN
CALSCALE:GREGORIAN
METHOD:PUBLISH
X-ORIGINAL-URL:https://richmondhill.org
X-WR-CALDESC:Events for Richmond Hill
REFRESH-INTERVAL;VALUE=DURATION:PT1H
X-Robots-Tag:noindex
X-PUBLISHED-TTL:PT1H
BEGIN:VTIMEZONE
TZID:America/New_York
BEGIN:DAYLIGHT
TZOFFSETFROM:-0500
TZOFFSETTO:-0400
TZNAME:EDT
DTSTART:20240310T070000
END:DAYLIGHT
BEGIN:STANDARD
TZOFFSETFROM:-0400
TZOFFSETTO:-0500
TZNAME:EST
DTSTART:20241103T060000
END:STANDARD
BEGIN:DAYLIGHT
TZOFFSETFROM:-0500
TZOFFSETTO:-0400
TZNAME:EDT
DTSTART:20250309T070000
END:DAYLIGHT
BEGIN:STANDARD
TZOFFSETFROM:-0400
TZOFFSETTO:-0500
TZNAME:EST
DTSTART:20251102T060000
END:STANDARD
BEGIN:DAYLIGHT
TZOFFSETFROM:-0500
TZOFFSETTO:-0400
TZNAME:EDT
DTSTART:20260308T070000
END:DAYLIGHT
BEGIN:STANDARD
TZOFFSETFROM:-0400
TZOFFSETTO:-0500
TZNAME:EST
DTSTART:20261101T060000
END:STANDARD
END:VTIMEZONE
BEGIN:VEVENT
DTSTART;TZID=America/New_York:20250216T120000
DTEND;TZID=America/New_York:20250216T133000
DTSTAMP:20260424T141635
CREATED:20250212T184514Z
LAST-MODIFIED:20250212T184656Z
UID:10000576-1739707200-1739712600@richmondhill.org
SUMMARY:Students Homeless Ministry Interest Meeting
DESCRIPTION:We have an exciting opportunity to serve our community through a Homeless Ministry that we\, as FBC Students\, would like to get started along with our Missions Director!  If you are interested in helping to plan and engage with this ministry\, we are having an interest meeting on Sunday\, February 16th\, in D111!
URL:https://richmondhill.org/event/students-homeless-ministry-interest-meeting/
CATEGORIES:mission,Students
ATTACH;FMTTYPE=image/png:https://richmondhill.org/wp-content/uploads/2025/02/Homeless-Ministry-Interest-Meeting-1920-x-1080-px.png
END:VEVENT
END:VCALENDAR