BEGIN:VCALENDAR
VERSION:2.0
PRODID:-//Richmond Hill - ECPv6.15.18//NONSGML v1.0//EN
CALSCALE:GREGORIAN
METHOD:PUBLISH
X-WR-CALNAME:Richmond Hill
X-ORIGINAL-URL:https://richmondhill.org
X-WR-CALDESC:Events for Richmond Hill
REFRESH-INTERVAL;VALUE=DURATION:PT1H
X-Robots-Tag:noindex
X-PUBLISHED-TTL:PT1H
BEGIN:VTIMEZONE
TZID:America/New_York
BEGIN:DAYLIGHT
TZOFFSETFROM:-0500
TZOFFSETTO:-0400
TZNAME:EDT
DTSTART:20240310T070000
END:DAYLIGHT
BEGIN:STANDARD
TZOFFSETFROM:-0400
TZOFFSETTO:-0500
TZNAME:EST
DTSTART:20241103T060000
END:STANDARD
BEGIN:DAYLIGHT
TZOFFSETFROM:-0500
TZOFFSETTO:-0400
TZNAME:EDT
DTSTART:20250309T070000
END:DAYLIGHT
BEGIN:STANDARD
TZOFFSETFROM:-0400
TZOFFSETTO:-0500
TZNAME:EST
DTSTART:20251102T060000
END:STANDARD
BEGIN:DAYLIGHT
TZOFFSETFROM:-0500
TZOFFSETTO:-0400
TZNAME:EDT
DTSTART:20260308T070000
END:DAYLIGHT
BEGIN:STANDARD
TZOFFSETFROM:-0400
TZOFFSETTO:-0500
TZNAME:EST
DTSTART:20261101T060000
END:STANDARD
END:VTIMEZONE
BEGIN:VEVENT
DTSTART;TZID=America/New_York:20250223T120000
DTEND;TZID=America/New_York:20250223T133000
DTSTAMP:20260424T124901
CREATED:20250212T183111Z
LAST-MODIFIED:20250212T183111Z
UID:10000575-1740312000-1740317400@richmondhill.org
SUMMARY:Student Leadership Team Meeting
DESCRIPTION:Our Student Leadership Team will have our launch meeting on Sunday\, February 23rd\, right after church!  This Leadership Team will help to plan our FBC Students events & programs and will receive periodic leadership training\, too! This is a great way to help be a part of leading our FBC Student Ministry\, as well as growing your own leadership skills along the way!
URL:https://richmondhill.org/event/student-leadership-team-meeting/
CATEGORIES:Students
ATTACH;FMTTYPE=image/png:https://richmondhill.org/wp-content/uploads/2025/02/STUDENT-LEADERSHIP-LAUNCH-MEETING-1920-x-1080-px.png
END:VEVENT
END:VCALENDAR