BEGIN:VCALENDAR
VERSION:2.0
PRODID:-//Richmond Hill - ECPv6.15.18//NONSGML v1.0//EN
CALSCALE:GREGORIAN
METHOD:PUBLISH
X-ORIGINAL-URL:https://richmondhill.org
X-WR-CALDESC:Events for Richmond Hill
REFRESH-INTERVAL;VALUE=DURATION:PT1H
X-Robots-Tag:noindex
X-PUBLISHED-TTL:PT1H
BEGIN:VTIMEZONE
TZID:America/New_York
BEGIN:DAYLIGHT
TZOFFSETFROM:-0500
TZOFFSETTO:-0400
TZNAME:EDT
DTSTART:20240310T070000
END:DAYLIGHT
BEGIN:STANDARD
TZOFFSETFROM:-0400
TZOFFSETTO:-0500
TZNAME:EST
DTSTART:20241103T060000
END:STANDARD
BEGIN:DAYLIGHT
TZOFFSETFROM:-0500
TZOFFSETTO:-0400
TZNAME:EDT
DTSTART:20250309T070000
END:DAYLIGHT
BEGIN:STANDARD
TZOFFSETFROM:-0400
TZOFFSETTO:-0500
TZNAME:EST
DTSTART:20251102T060000
END:STANDARD
BEGIN:DAYLIGHT
TZOFFSETFROM:-0500
TZOFFSETTO:-0400
TZNAME:EDT
DTSTART:20260308T070000
END:DAYLIGHT
BEGIN:STANDARD
TZOFFSETFROM:-0400
TZOFFSETTO:-0500
TZNAME:EST
DTSTART:20261101T060000
END:STANDARD
END:VTIMEZONE
BEGIN:VEVENT
DTSTART;TZID=America/New_York:20250303T183000
DTEND;TZID=America/New_York:20250303T200000
DTSTAMP:20260424T125034
CREATED:20250113T201639Z
LAST-MODIFIED:20250113T201639Z
UID:10000307-1741026600-1741032000@richmondhill.org
SUMMARY:Men & Teens Bible Study (Monday Evening)
DESCRIPTION:Join us every Monday evening at 6:30pm for our Men & Teens Bible Study! Right now\, we’re going through the book of Hebrews. No need to sign up – just show up!
URL:https://richmondhill.org/event/men-teens-bible-study-monday-evening/2025-03-03/
CATEGORIES:Students
ATTACH;FMTTYPE=image/png:https://richmondhill.org/wp-content/uploads/2025/01/BIBLE-STUDY.png
END:VEVENT
BEGIN:VEVENT
DTSTART;TZID=America/New_York:20250303T183000
DTEND;TZID=America/New_York:20250303T200000
DTSTAMP:20260424T125034
CREATED:20250227T220202Z
LAST-MODIFIED:20250227T220211Z
UID:10000877-1741026600-1741032000@richmondhill.org
SUMMARY:Women & Teens Bible Study (Monday Evening)
DESCRIPTION:Our Women’s Bible Studies will be resuming in January! We offer our Women & Teens on Mondays at 6:30pm. Childcare is offered at all times. We’ll be studying The Good Gospel by Jennie Allen\, Jackie Hill Perry\, Jamie Ivey.
URL:https://richmondhill.org/event/women-teens-bible-study-monday-evening-2/2025-03-03/
CATEGORIES:Students,women
ATTACH;FMTTYPE=image/png:https://richmondhill.org/wp-content/uploads/2025/01/Womens-3.png
END:VEVENT
BEGIN:VEVENT
DTSTART;TZID=America/New_York:20250303T183000
DTEND;TZID=America/New_York:20250303T200000
DTSTAMP:20260424T125034
CREATED:20250513T205822Z
LAST-MODIFIED:20250513T211445Z
UID:10001021-1741026600-1741032000@richmondhill.org
SUMMARY:Men & Teens Bible Study (Monday Evening)
DESCRIPTION:Join us every Monday evening at 6:30pm for our Men & Teens Bible Study! Right now\, we’re going through the book of Hebrews. No need to sign up – just show up!
URL:https://richmondhill.org/event/men-teens-bible-study-monday-evening-2/2025-03-03/
CATEGORIES:Students
ATTACH;FMTTYPE=image/png:https://richmondhill.org/wp-content/uploads/2025/01/BIBLE-STUDY.png
END:VEVENT
END:VCALENDAR