BEGIN:VCALENDAR
VERSION:2.0
PRODID:-//Richmond Hill - ECPv6.15.18//NONSGML v1.0//EN
CALSCALE:GREGORIAN
METHOD:PUBLISH
X-ORIGINAL-URL:https://richmondhill.org
X-WR-CALDESC:Events for Richmond Hill
REFRESH-INTERVAL;VALUE=DURATION:PT1H
X-Robots-Tag:noindex
X-PUBLISHED-TTL:PT1H
BEGIN:VTIMEZONE
TZID:America/New_York
BEGIN:DAYLIGHT
TZOFFSETFROM:-0500
TZOFFSETTO:-0400
TZNAME:EDT
DTSTART:20240310T070000
END:DAYLIGHT
BEGIN:STANDARD
TZOFFSETFROM:-0400
TZOFFSETTO:-0500
TZNAME:EST
DTSTART:20241103T060000
END:STANDARD
BEGIN:DAYLIGHT
TZOFFSETFROM:-0500
TZOFFSETTO:-0400
TZNAME:EDT
DTSTART:20250309T070000
END:DAYLIGHT
BEGIN:STANDARD
TZOFFSETFROM:-0400
TZOFFSETTO:-0500
TZNAME:EST
DTSTART:20251102T060000
END:STANDARD
BEGIN:DAYLIGHT
TZOFFSETFROM:-0500
TZOFFSETTO:-0400
TZNAME:EDT
DTSTART:20260308T070000
END:DAYLIGHT
BEGIN:STANDARD
TZOFFSETFROM:-0400
TZOFFSETTO:-0500
TZNAME:EST
DTSTART:20261101T060000
END:STANDARD
END:VTIMEZONE
BEGIN:VEVENT
DTSTART;TZID=America/New_York:20250210T183000
DTEND;TZID=America/New_York:20250210T200000
DTSTAMP:20260424T070257
CREATED:20250227T220202Z
LAST-MODIFIED:20250227T220211Z
UID:10000874-1739212200-1739217600@richmondhill.org
SUMMARY:Women & Teens Bible Study (Monday Evening)
DESCRIPTION:Our Women’s Bible Studies will be resuming in January! We offer our Women & Teens on Mondays at 6:30pm. Childcare is offered at all times. We’ll be studying The Good Gospel by Jennie Allen\, Jackie Hill Perry\, Jamie Ivey.
URL:https://richmondhill.org/event/women-teens-bible-study-monday-evening-2/2025-02-10/
CATEGORIES:Students,women
ATTACH;FMTTYPE=image/png:https://richmondhill.org/wp-content/uploads/2025/01/Womens-3.png
END:VEVENT
BEGIN:VEVENT
DTSTART;TZID=America/New_York:20250210T183000
DTEND;TZID=America/New_York:20250210T200000
DTSTAMP:20260424T070257
CREATED:20250113T194835Z
LAST-MODIFIED:20250113T201738Z
UID:10000042-1739212200-1739217600@richmondhill.org
SUMMARY:Women & Teens Bible Study (Monday Evening)
DESCRIPTION:Our Women’s Bible Studies will be resuming in January! We offer our Women & Teens on Mondays at 6:30pm. Childcare is offered at all times. We’ll be studying The Good Gospel by Jennie Allen\, Jackie Hill Perry\, Jamie Ivey.
URL:https://richmondhill.org/event/women-teens-bible-study-monday-evening/2025-02-10/
CATEGORIES:Students,women
ATTACH;FMTTYPE=image/png:https://richmondhill.org/wp-content/uploads/2025/01/Womens-3.png
END:VEVENT
BEGIN:VEVENT
DTSTART;TZID=America/New_York:20250204T093000
DTEND;TZID=America/New_York:20250204T110000
DTSTAMP:20260424T070257
CREATED:20250227T220049Z
LAST-MODIFIED:20250227T220052Z
UID:10000865-1738661400-1738666800@richmondhill.org
SUMMARY:Women's Bible Studies (Tuesday Mornings)
DESCRIPTION:Our Women’s Bible Studies will be resuming in January! We offer two Women’s Bible Studies on Tuesdays at 9:30am. Childcare is offered at all times. We’ll be hosting one Bible Study that is a Precept Study and another one studying The Good Gospel by Jennie Allen\, Jackie Hill Perry\, Jamie Ivey.
URL:https://richmondhill.org/event/womens-bible-studies-tuesday-mornings-2/2025-02-04/
CATEGORIES:women
ATTACH;FMTTYPE=image/png:https://richmondhill.org/wp-content/uploads/2025/01/Womens-3.png
END:VEVENT
BEGIN:VEVENT
DTSTART;TZID=America/New_York:20250204T093000
DTEND;TZID=America/New_York:20250204T110000
DTSTAMP:20260424T070257
CREATED:20250212T185302Z
LAST-MODIFIED:20250212T185302Z
UID:10000581-1738661400-1738666800@richmondhill.org
SUMMARY:Women's Bible Studies (Tuesday Mornings)
DESCRIPTION:Our Women’s Bible Studies will be resuming in January! We offer two Women’s Bible Studies on Tuesdays at 9:30am. Childcare is offered at all times. We’ll be hosting one Bible Study that is a Precept Study and another one studying The Good Gospel by Jennie Allen\, Jackie Hill Perry\, Jamie Ivey.
URL:https://richmondhill.org/event/womens-bible-studies-tuesday-mornings/2025-02-04/
CATEGORIES:women
ATTACH;FMTTYPE=image/png:https://richmondhill.org/wp-content/uploads/2025/01/Womens-3.png
END:VEVENT
BEGIN:VEVENT
DTSTART;TZID=America/New_York:20250203T183000
DTEND;TZID=America/New_York:20250203T200000
DTSTAMP:20260424T070257
CREATED:20250227T220202Z
LAST-MODIFIED:20250227T220211Z
UID:10000873-1738607400-1738612800@richmondhill.org
SUMMARY:Women & Teens Bible Study (Monday Evening)
DESCRIPTION:Our Women’s Bible Studies will be resuming in January! We offer our Women & Teens on Mondays at 6:30pm. Childcare is offered at all times. We’ll be studying The Good Gospel by Jennie Allen\, Jackie Hill Perry\, Jamie Ivey.
URL:https://richmondhill.org/event/women-teens-bible-study-monday-evening-2/2025-02-03/
CATEGORIES:Students,women
ATTACH;FMTTYPE=image/png:https://richmondhill.org/wp-content/uploads/2025/01/Womens-3.png
END:VEVENT
BEGIN:VEVENT
DTSTART;TZID=America/New_York:20250203T183000
DTEND;TZID=America/New_York:20250203T200000
DTSTAMP:20260424T070257
CREATED:20250113T194835Z
LAST-MODIFIED:20250113T201738Z
UID:10000041-1738607400-1738612800@richmondhill.org
SUMMARY:Women & Teens Bible Study (Monday Evening)
DESCRIPTION:Our Women’s Bible Studies will be resuming in January! We offer our Women & Teens on Mondays at 6:30pm. Childcare is offered at all times. We’ll be studying The Good Gospel by Jennie Allen\, Jackie Hill Perry\, Jamie Ivey.
URL:https://richmondhill.org/event/women-teens-bible-study-monday-evening/2025-02-03/
CATEGORIES:Students,women
ATTACH;FMTTYPE=image/png:https://richmondhill.org/wp-content/uploads/2025/01/Womens-3.png
END:VEVENT
BEGIN:VEVENT
DTSTART;TZID=America/New_York:20250128T093000
DTEND;TZID=America/New_York:20250128T110000
DTSTAMP:20260424T070257
CREATED:20250227T220049Z
LAST-MODIFIED:20250227T220052Z
UID:10000864-1738056600-1738062000@richmondhill.org
SUMMARY:Women's Bible Studies (Tuesday Mornings)
DESCRIPTION:Our Women’s Bible Studies will be resuming in January! We offer two Women’s Bible Studies on Tuesdays at 9:30am. Childcare is offered at all times. We’ll be hosting one Bible Study that is a Precept Study and another one studying The Good Gospel by Jennie Allen\, Jackie Hill Perry\, Jamie Ivey.
URL:https://richmondhill.org/event/womens-bible-studies-tuesday-mornings-2/2025-01-28/
CATEGORIES:women
ATTACH;FMTTYPE=image/png:https://richmondhill.org/wp-content/uploads/2025/01/Womens-3.png
END:VEVENT
BEGIN:VEVENT
DTSTART;TZID=America/New_York:20250128T093000
DTEND;TZID=America/New_York:20250128T110000
DTSTAMP:20260424T070257
CREATED:20250212T185302Z
LAST-MODIFIED:20250212T185302Z
UID:10000580-1738056600-1738062000@richmondhill.org
SUMMARY:Women's Bible Studies (Tuesday Mornings)
DESCRIPTION:Our Women’s Bible Studies will be resuming in January! We offer two Women’s Bible Studies on Tuesdays at 9:30am. Childcare is offered at all times. We’ll be hosting one Bible Study that is a Precept Study and another one studying The Good Gospel by Jennie Allen\, Jackie Hill Perry\, Jamie Ivey.
URL:https://richmondhill.org/event/womens-bible-studies-tuesday-mornings/2025-01-28/
CATEGORIES:women
ATTACH;FMTTYPE=image/png:https://richmondhill.org/wp-content/uploads/2025/01/Womens-3.png
END:VEVENT
BEGIN:VEVENT
DTSTART;TZID=America/New_York:20250127T183000
DTEND;TZID=America/New_York:20250127T200000
DTSTAMP:20260424T070257
CREATED:20250227T220202Z
LAST-MODIFIED:20250227T220211Z
UID:10000872-1738002600-1738008000@richmondhill.org
SUMMARY:Women & Teens Bible Study (Monday Evening)
DESCRIPTION:Our Women’s Bible Studies will be resuming in January! We offer our Women & Teens on Mondays at 6:30pm. Childcare is offered at all times. We’ll be studying The Good Gospel by Jennie Allen\, Jackie Hill Perry\, Jamie Ivey.
URL:https://richmondhill.org/event/women-teens-bible-study-monday-evening-2/2025-01-27/
CATEGORIES:Students,women
ATTACH;FMTTYPE=image/png:https://richmondhill.org/wp-content/uploads/2025/01/Womens-3.png
END:VEVENT
BEGIN:VEVENT
DTSTART;TZID=America/New_York:20250127T183000
DTEND;TZID=America/New_York:20250127T200000
DTSTAMP:20260424T070257
CREATED:20250113T194835Z
LAST-MODIFIED:20250113T201738Z
UID:10000040-1738002600-1738008000@richmondhill.org
SUMMARY:Women & Teens Bible Study (Monday Evening)
DESCRIPTION:Our Women’s Bible Studies will be resuming in January! We offer our Women & Teens on Mondays at 6:30pm. Childcare is offered at all times. We’ll be studying The Good Gospel by Jennie Allen\, Jackie Hill Perry\, Jamie Ivey.
URL:https://richmondhill.org/event/women-teens-bible-study-monday-evening/2025-01-27/
CATEGORIES:Students,women
ATTACH;FMTTYPE=image/png:https://richmondhill.org/wp-content/uploads/2025/01/Womens-3.png
END:VEVENT
BEGIN:VEVENT
DTSTART;TZID=America/New_York:20250121T093000
DTEND;TZID=America/New_York:20250121T110000
DTSTAMP:20260424T070257
CREATED:20250227T220049Z
LAST-MODIFIED:20250227T220052Z
UID:10000863-1737451800-1737457200@richmondhill.org
SUMMARY:Women's Bible Studies (Tuesday Mornings)
DESCRIPTION:Our Women’s Bible Studies will be resuming in January! We offer two Women’s Bible Studies on Tuesdays at 9:30am. Childcare is offered at all times. We’ll be hosting one Bible Study that is a Precept Study and another one studying The Good Gospel by Jennie Allen\, Jackie Hill Perry\, Jamie Ivey.
URL:https://richmondhill.org/event/womens-bible-studies-tuesday-mornings-2/2025-01-21/
CATEGORIES:women
ATTACH;FMTTYPE=image/png:https://richmondhill.org/wp-content/uploads/2025/01/Womens-3.png
END:VEVENT
BEGIN:VEVENT
DTSTART;TZID=America/New_York:20250121T093000
DTEND;TZID=America/New_York:20250121T110000
DTSTAMP:20260424T070257
CREATED:20250212T185302Z
LAST-MODIFIED:20250212T185302Z
UID:10000579-1737451800-1737457200@richmondhill.org
SUMMARY:Women's Bible Studies (Tuesday Mornings)
DESCRIPTION:Our Women’s Bible Studies will be resuming in January! We offer two Women’s Bible Studies on Tuesdays at 9:30am. Childcare is offered at all times. We’ll be hosting one Bible Study that is a Precept Study and another one studying The Good Gospel by Jennie Allen\, Jackie Hill Perry\, Jamie Ivey.
URL:https://richmondhill.org/event/womens-bible-studies-tuesday-mornings/2025-01-21/
CATEGORIES:women
ATTACH;FMTTYPE=image/png:https://richmondhill.org/wp-content/uploads/2025/01/Womens-3.png
END:VEVENT
BEGIN:VEVENT
DTSTART;TZID=America/New_York:20250120T183000
DTEND;TZID=America/New_York:20250120T200000
DTSTAMP:20260424T070257
CREATED:20250227T220202Z
LAST-MODIFIED:20250227T220211Z
UID:10000871-1737397800-1737403200@richmondhill.org
SUMMARY:Women & Teens Bible Study (Monday Evening)
DESCRIPTION:Our Women’s Bible Studies will be resuming in January! We offer our Women & Teens on Mondays at 6:30pm. Childcare is offered at all times. We’ll be studying The Good Gospel by Jennie Allen\, Jackie Hill Perry\, Jamie Ivey.
URL:https://richmondhill.org/event/women-teens-bible-study-monday-evening-2/2025-01-20/
CATEGORIES:Students,women
ATTACH;FMTTYPE=image/png:https://richmondhill.org/wp-content/uploads/2025/01/Womens-3.png
END:VEVENT
BEGIN:VEVENT
DTSTART;TZID=America/New_York:20250120T183000
DTEND;TZID=America/New_York:20250120T200000
DTSTAMP:20260424T070257
CREATED:20250113T194835Z
LAST-MODIFIED:20250113T201738Z
UID:10000039-1737397800-1737403200@richmondhill.org
SUMMARY:Women & Teens Bible Study (Monday Evening)
DESCRIPTION:Our Women’s Bible Studies will be resuming in January! We offer our Women & Teens on Mondays at 6:30pm. Childcare is offered at all times. We’ll be studying The Good Gospel by Jennie Allen\, Jackie Hill Perry\, Jamie Ivey.
URL:https://richmondhill.org/event/women-teens-bible-study-monday-evening/2025-01-20/
CATEGORIES:Students,women
ATTACH;FMTTYPE=image/png:https://richmondhill.org/wp-content/uploads/2025/01/Womens-3.png
END:VEVENT
BEGIN:VEVENT
DTSTART;TZID=America/New_York:20250114T093000
DTEND;TZID=America/New_York:20250114T110000
DTSTAMP:20260424T070257
CREATED:20250227T220049Z
LAST-MODIFIED:20250227T220052Z
UID:10000862-1736847000-1736852400@richmondhill.org
SUMMARY:Women's Bible Studies (Tuesday Mornings)
DESCRIPTION:Our Women’s Bible Studies will be resuming in January! We offer two Women’s Bible Studies on Tuesdays at 9:30am. Childcare is offered at all times. We’ll be hosting one Bible Study that is a Precept Study and another one studying The Good Gospel by Jennie Allen\, Jackie Hill Perry\, Jamie Ivey.
URL:https://richmondhill.org/event/womens-bible-studies-tuesday-mornings-2/2025-01-14/
CATEGORIES:women
ATTACH;FMTTYPE=image/png:https://richmondhill.org/wp-content/uploads/2025/01/Womens-3.png
END:VEVENT
BEGIN:VEVENT
DTSTART;TZID=America/New_York:20250114T093000
DTEND;TZID=America/New_York:20250114T110000
DTSTAMP:20260424T070257
CREATED:20250212T185302Z
LAST-MODIFIED:20250212T185302Z
UID:10000578-1736847000-1736852400@richmondhill.org
SUMMARY:Women's Bible Studies (Tuesday Mornings)
DESCRIPTION:Our Women’s Bible Studies will be resuming in January! We offer two Women’s Bible Studies on Tuesdays at 9:30am. Childcare is offered at all times. We’ll be hosting one Bible Study that is a Precept Study and another one studying The Good Gospel by Jennie Allen\, Jackie Hill Perry\, Jamie Ivey.
URL:https://richmondhill.org/event/womens-bible-studies-tuesday-mornings/2025-01-14/
CATEGORIES:women
ATTACH;FMTTYPE=image/png:https://richmondhill.org/wp-content/uploads/2025/01/Womens-3.png
END:VEVENT
BEGIN:VEVENT
DTSTART;TZID=America/New_York:20250113T183000
DTEND;TZID=America/New_York:20250113T200000
DTSTAMP:20260424T070257
CREATED:20250227T220202Z
LAST-MODIFIED:20250227T220211Z
UID:10000870-1736793000-1736798400@richmondhill.org
SUMMARY:Women & Teens Bible Study (Monday Evening)
DESCRIPTION:Our Women’s Bible Studies will be resuming in January! We offer our Women & Teens on Mondays at 6:30pm. Childcare is offered at all times. We’ll be studying The Good Gospel by Jennie Allen\, Jackie Hill Perry\, Jamie Ivey.
URL:https://richmondhill.org/event/women-teens-bible-study-monday-evening-2/2025-01-13/
CATEGORIES:Students,women
ATTACH;FMTTYPE=image/png:https://richmondhill.org/wp-content/uploads/2025/01/Womens-3.png
END:VEVENT
BEGIN:VEVENT
DTSTART;TZID=America/New_York:20250113T183000
DTEND;TZID=America/New_York:20250113T200000
DTSTAMP:20260424T070257
CREATED:20250113T194835Z
LAST-MODIFIED:20250113T201738Z
UID:10000038-1736793000-1736798400@richmondhill.org
SUMMARY:Women & Teens Bible Study (Monday Evening)
DESCRIPTION:Our Women’s Bible Studies will be resuming in January! We offer our Women & Teens on Mondays at 6:30pm. Childcare is offered at all times. We’ll be studying The Good Gospel by Jennie Allen\, Jackie Hill Perry\, Jamie Ivey.
URL:https://richmondhill.org/event/women-teens-bible-study-monday-evening/2025-01-13/
CATEGORIES:Students,women
ATTACH;FMTTYPE=image/png:https://richmondhill.org/wp-content/uploads/2025/01/Womens-3.png
END:VEVENT
BEGIN:VEVENT
DTSTART;TZID=America/New_York:20250107T093000
DTEND;TZID=America/New_York:20250107T110000
DTSTAMP:20260424T070257
CREATED:20250227T220049Z
LAST-MODIFIED:20250227T220052Z
UID:10000585-1736242200-1736247600@richmondhill.org
SUMMARY:Women's Bible Studies (Tuesday Mornings)
DESCRIPTION:Our Women’s Bible Studies will be resuming in January! We offer two Women’s Bible Studies on Tuesdays at 9:30am. Childcare is offered at all times. We’ll be hosting one Bible Study that is a Precept Study and another one studying The Good Gospel by Jennie Allen\, Jackie Hill Perry\, Jamie Ivey.
URL:https://richmondhill.org/event/womens-bible-studies-tuesday-mornings-2/2025-01-07/
CATEGORIES:women
ATTACH;FMTTYPE=image/png:https://richmondhill.org/wp-content/uploads/2025/01/Womens-3.png
END:VEVENT
BEGIN:VEVENT
DTSTART;TZID=America/New_York:20250107T093000
DTEND;TZID=America/New_York:20250107T110000
DTSTAMP:20260424T070257
CREATED:20250212T185302Z
LAST-MODIFIED:20250212T185302Z
UID:10000577-1736242200-1736247600@richmondhill.org
SUMMARY:Women's Bible Studies (Tuesday Mornings)
DESCRIPTION:Our Women’s Bible Studies will be resuming in January! We offer two Women’s Bible Studies on Tuesdays at 9:30am. Childcare is offered at all times. We’ll be hosting one Bible Study that is a Precept Study and another one studying The Good Gospel by Jennie Allen\, Jackie Hill Perry\, Jamie Ivey.
URL:https://richmondhill.org/event/womens-bible-studies-tuesday-mornings/2025-01-07/
CATEGORIES:women
ATTACH;FMTTYPE=image/png:https://richmondhill.org/wp-content/uploads/2025/01/Womens-3.png
END:VEVENT
BEGIN:VEVENT
DTSTART;TZID=America/New_York:20250106T183000
DTEND;TZID=America/New_York:20250106T200000
DTSTAMP:20260424T070257
CREATED:20250227T220202Z
LAST-MODIFIED:20250227T220211Z
UID:10000045-1736188200-1736193600@richmondhill.org
SUMMARY:Women & Teens Bible Study (Monday Evening)
DESCRIPTION:Our Women’s Bible Studies will be resuming in January! We offer our Women & Teens on Mondays at 6:30pm. Childcare is offered at all times. We’ll be studying The Good Gospel by Jennie Allen\, Jackie Hill Perry\, Jamie Ivey.
URL:https://richmondhill.org/event/women-teens-bible-study-monday-evening-2/2025-01-06/
CATEGORIES:Students,women
ATTACH;FMTTYPE=image/png:https://richmondhill.org/wp-content/uploads/2025/01/Womens-3.png
END:VEVENT
BEGIN:VEVENT
DTSTART;TZID=America/New_York:20250106T183000
DTEND;TZID=America/New_York:20250106T200000
DTSTAMP:20260424T070257
CREATED:20250113T194835Z
LAST-MODIFIED:20250113T201738Z
UID:10000037-1736188200-1736193600@richmondhill.org
SUMMARY:Women & Teens Bible Study (Monday Evening)
DESCRIPTION:Our Women’s Bible Studies will be resuming in January! We offer our Women & Teens on Mondays at 6:30pm. Childcare is offered at all times. We’ll be studying The Good Gospel by Jennie Allen\, Jackie Hill Perry\, Jamie Ivey.
URL:https://richmondhill.org/event/women-teens-bible-study-monday-evening/2025-01-06/
CATEGORIES:Students,women
ATTACH;FMTTYPE=image/png:https://richmondhill.org/wp-content/uploads/2025/01/Womens-3.png
END:VEVENT
END:VCALENDAR