BEGIN:VCALENDAR
VERSION:2.0
PRODID:-//Richmond Hill - ECPv6.15.18//NONSGML v1.0//EN
CALSCALE:GREGORIAN
METHOD:PUBLISH
X-WR-CALNAME:Richmond Hill
X-ORIGINAL-URL:https://richmondhill.org
X-WR-CALDESC:Events for Richmond Hill
REFRESH-INTERVAL;VALUE=DURATION:PT1H
X-Robots-Tag:noindex
X-PUBLISHED-TTL:PT1H
BEGIN:VTIMEZONE
TZID:America/New_York
BEGIN:DAYLIGHT
TZOFFSETFROM:-0500
TZOFFSETTO:-0400
TZNAME:EDT
DTSTART:20250309T070000
END:DAYLIGHT
BEGIN:STANDARD
TZOFFSETFROM:-0400
TZOFFSETTO:-0500
TZNAME:EST
DTSTART:20251102T060000
END:STANDARD
BEGIN:DAYLIGHT
TZOFFSETFROM:-0500
TZOFFSETTO:-0400
TZNAME:EDT
DTSTART:20260308T070000
END:DAYLIGHT
BEGIN:STANDARD
TZOFFSETFROM:-0400
TZOFFSETTO:-0500
TZNAME:EST
DTSTART:20261101T060000
END:STANDARD
BEGIN:DAYLIGHT
TZOFFSETFROM:-0500
TZOFFSETTO:-0400
TZNAME:EDT
DTSTART:20270314T070000
END:DAYLIGHT
BEGIN:STANDARD
TZOFFSETFROM:-0400
TZOFFSETTO:-0500
TZNAME:EST
DTSTART:20271107T060000
END:STANDARD
END:VTIMEZONE
BEGIN:VEVENT
DTSTART;TZID=America/New_York:20260305T183000
DTEND;TZID=America/New_York:20260305T200000
DTSTAMP:20260423T175452
CREATED:20260114T171853Z
LAST-MODIFIED:20260114T171853Z
UID:10001537-1772735400-1772740800@richmondhill.org
SUMMARY:Financial Peace University
DESCRIPTION:Take control of your money with Financial Peace University! This nine-week class uses Biblical wisdom and common sense to help you tackle budgeting\, pay off debt\, and invest for your future! You can sign up in the church office. Classes start Thursday\, January 8\, at 6:30pm.
URL:https://richmondhill.org/event/financial-peace-university/2026-03-05/
ATTACH;FMTTYPE=image/png:https://richmondhill.org/wp-content/uploads/2026/01/Financial-Peace-University.png
END:VEVENT
BEGIN:VEVENT
DTSTART;TZID=America/New_York:20260305T093000
DTEND;TZID=America/New_York:20260305T113000
DTSTAMP:20260423T175452
CREATED:20260114T165317Z
LAST-MODIFIED:20260114T170021Z
UID:10001428-1772703000-1772710200@richmondhill.org
SUMMARY:FBC Women's Precept Bible Study
DESCRIPTION:Precept Bible Studies Overview: \nScripture guides you toward God. Precept guides you through Scripture. \nWe believe that relationship with God comes through knowing His Word\, and that means studying it hands-on. Precept’s Method explains the nuts and bolts of our studies so that every student can discover God’s truth for themselves. \nThese steps—observation\, interpretation\, application—are numbered for clarity\, but it’s important to remember that you don’t have to use them in order. As you study\, you should expect to move fluidly between steps and respond to the text as it is presented. \nOur Ladies Precept Group will begin the Book of Exodus on Thursday January 22nd.  \nPrecept Upon Precept Book:  $25\nIn-N-Out Book:  $23 \nThere will be no childcare provided for this study.
URL:https://richmondhill.org/event/fbc-womens-precept-bible-study/2026-03-05/
CATEGORIES:women
ATTACH;FMTTYPE=image/png:https://richmondhill.org/wp-content/uploads/2026/01/Exodus.png
END:VEVENT
BEGIN:VEVENT
DTSTART;TZID=America/New_York:20260304T183000
DTEND;TZID=America/New_York:20260304T200000
DTSTAMP:20260423T175452
CREATED:20260114T171429Z
LAST-MODIFIED:20260114T171617Z
UID:10001525-1772649000-1772654400@richmondhill.org
SUMMARY:The Truth Project
DESCRIPTION:Meeting on Wednesdays at 6:30pm\, this series aims to help viewers understand and apply a Biblical perspective to all areas of life. The curriculum consists of video lessons covering topics like “What is Truth?\,” “Who is Man?\,” and “Whose Law?” It features insights from Biblical experts such as R.C. Sproul\, Os Guinness\, and John Stonestreet. Begins January 7th!
URL:https://richmondhill.org/event/the-truth-project/2026-03-04/
ATTACH;FMTTYPE=image/png:https://richmondhill.org/wp-content/uploads/2026/01/The-Truth-Project.png
END:VEVENT
BEGIN:VEVENT
DTSTART;TZID=America/New_York:20260302T183000
DTEND;TZID=America/New_York:20260302T200000
DTSTAMP:20260423T175452
CREATED:20260114T171038Z
LAST-MODIFIED:20260114T171038Z
UID:10001505-1772476200-1772481600@richmondhill.org
SUMMARY:Men & Teens Bible Study
DESCRIPTION:
URL:https://richmondhill.org/event/men-teens-bible-study/2026-03-02/
CATEGORIES:Men
ATTACH;FMTTYPE=image/png:https://richmondhill.org/wp-content/uploads/2026/01/BIBLE-STUDY-copy.png
END:VEVENT
BEGIN:VEVENT
DTSTART;TZID=America/New_York:20260301T103000
DTEND;TZID=America/New_York:20260301T120000
DTSTAMP:20260423T175452
CREATED:20260114T193354Z
LAST-MODIFIED:20260318T131536Z
UID:10001541-1772361000-1772366400@richmondhill.org
SUMMARY:Member Connections: Catch the Vision
DESCRIPTION:Our Member Connections classes will help guide you through the membership journey here at FBC! This is a 2 week series – held the 1st & 2nd Sundays of every other month – that will walk you through our church’s beliefs\, what it looks like to be a member\, as well as help you get connected into the church family in discipleship & service. \nThe next Member Connections will take place on May 3rd and May 10th at 10:30. This registration form is for both classes. \nPlease register no later than the Wednesday before so we can have a final count for these classes. \nConnections 101: Catch the Vision\nOpen to anyone who would like to learn more about our church and our core beliefs. You will also be given the opportunity to join our church family & get further connected within our church. \nConnections 201: Discover Your Place\nOpen to all members to discover how your gifts\, personalities\, passions\, & life experiences are beautifully coordinated to find the right place of connection and service here at FBC! \nIf you have children\, our FBC Kids meets in Sunday Groups at 10:30. FBC Students will be attending the 10:30 Worship Service.
URL:https://richmondhill.org/event/member-connections-catch-the-vision-2/2026-03-01/
CATEGORIES:Member Connections
ATTACH;FMTTYPE=image/png:https://richmondhill.org/wp-content/uploads/2026/03/Member-Connections.png
END:VEVENT
BEGIN:VEVENT
DTSTART;VALUE=DATE:20260227
DTEND;VALUE=DATE:20260302
DTSTAMP:20260423T175452
CREATED:20260114T192955Z
LAST-MODIFIED:20260114T192955Z
UID:10001540-1772150400-1772409599@richmondhill.org
SUMMARY:The Big WKND
DESCRIPTION:On the weekend of February 27th – March 1st\, students in grades 6-12 will enjoy games\, Bible study\, meals\, and worship\, staying in host homes at night and gathering daily at FBC Richmond Hill to learn how to “Be Real” Romans 12:9–13.
URL:https://richmondhill.org/event/the-big-wknd/
CATEGORIES:Students
ATTACH;FMTTYPE=image/png:https://richmondhill.org/wp-content/uploads/2026/01/The-BIG-WKND.png
END:VEVENT
BEGIN:VEVENT
DTSTART;TZID=America/New_York:20260226T183000
DTEND;TZID=America/New_York:20260226T200000
DTSTAMP:20260423T175452
CREATED:20260114T171853Z
LAST-MODIFIED:20260114T171853Z
UID:10001536-1772130600-1772136000@richmondhill.org
SUMMARY:Financial Peace University
DESCRIPTION:Take control of your money with Financial Peace University! This nine-week class uses Biblical wisdom and common sense to help you tackle budgeting\, pay off debt\, and invest for your future! You can sign up in the church office. Classes start Thursday\, January 8\, at 6:30pm.
URL:https://richmondhill.org/event/financial-peace-university/2026-02-26/
ATTACH;FMTTYPE=image/png:https://richmondhill.org/wp-content/uploads/2026/01/Financial-Peace-University.png
END:VEVENT
BEGIN:VEVENT
DTSTART;TZID=America/New_York:20260226T093000
DTEND;TZID=America/New_York:20260226T113000
DTSTAMP:20260423T175452
CREATED:20260114T165317Z
LAST-MODIFIED:20260114T170021Z
UID:10001427-1772098200-1772105400@richmondhill.org
SUMMARY:FBC Women's Precept Bible Study
DESCRIPTION:Precept Bible Studies Overview: \nScripture guides you toward God. Precept guides you through Scripture. \nWe believe that relationship with God comes through knowing His Word\, and that means studying it hands-on. Precept’s Method explains the nuts and bolts of our studies so that every student can discover God’s truth for themselves. \nThese steps—observation\, interpretation\, application—are numbered for clarity\, but it’s important to remember that you don’t have to use them in order. As you study\, you should expect to move fluidly between steps and respond to the text as it is presented. \nOur Ladies Precept Group will begin the Book of Exodus on Thursday January 22nd.  \nPrecept Upon Precept Book:  $25\nIn-N-Out Book:  $23 \nThere will be no childcare provided for this study.
URL:https://richmondhill.org/event/fbc-womens-precept-bible-study/2026-02-26/
CATEGORIES:women
ATTACH;FMTTYPE=image/png:https://richmondhill.org/wp-content/uploads/2026/01/Exodus.png
END:VEVENT
BEGIN:VEVENT
DTSTART;TZID=America/New_York:20260225T183000
DTEND;TZID=America/New_York:20260225T200000
DTSTAMP:20260423T175452
CREATED:20260114T171429Z
LAST-MODIFIED:20260114T171617Z
UID:10001524-1772044200-1772049600@richmondhill.org
SUMMARY:The Truth Project
DESCRIPTION:Meeting on Wednesdays at 6:30pm\, this series aims to help viewers understand and apply a Biblical perspective to all areas of life. The curriculum consists of video lessons covering topics like “What is Truth?\,” “Who is Man?\,” and “Whose Law?” It features insights from Biblical experts such as R.C. Sproul\, Os Guinness\, and John Stonestreet. Begins January 7th!
URL:https://richmondhill.org/event/the-truth-project/2026-02-25/
ATTACH;FMTTYPE=image/png:https://richmondhill.org/wp-content/uploads/2026/01/The-Truth-Project.png
END:VEVENT
BEGIN:VEVENT
DTSTART;TZID=America/New_York:20260223T183000
DTEND;TZID=America/New_York:20260223T200000
DTSTAMP:20260423T175452
CREATED:20260114T171038Z
LAST-MODIFIED:20260114T171038Z
UID:10001504-1771871400-1771876800@richmondhill.org
SUMMARY:Men & Teens Bible Study
DESCRIPTION:
URL:https://richmondhill.org/event/men-teens-bible-study/2026-02-23/
CATEGORIES:Men
ATTACH;FMTTYPE=image/png:https://richmondhill.org/wp-content/uploads/2026/01/BIBLE-STUDY-copy.png
END:VEVENT
BEGIN:VEVENT
DTSTART;TZID=America/New_York:20260219T183000
DTEND;TZID=America/New_York:20260219T200000
DTSTAMP:20260423T175452
CREATED:20260114T171853Z
LAST-MODIFIED:20260114T171853Z
UID:10001535-1771525800-1771531200@richmondhill.org
SUMMARY:Financial Peace University
DESCRIPTION:Take control of your money with Financial Peace University! This nine-week class uses Biblical wisdom and common sense to help you tackle budgeting\, pay off debt\, and invest for your future! You can sign up in the church office. Classes start Thursday\, January 8\, at 6:30pm.
URL:https://richmondhill.org/event/financial-peace-university/2026-02-19/
ATTACH;FMTTYPE=image/png:https://richmondhill.org/wp-content/uploads/2026/01/Financial-Peace-University.png
END:VEVENT
BEGIN:VEVENT
DTSTART;TZID=America/New_York:20260219T093000
DTEND;TZID=America/New_York:20260219T113000
DTSTAMP:20260423T175452
CREATED:20260114T165317Z
LAST-MODIFIED:20260114T170021Z
UID:10001426-1771493400-1771500600@richmondhill.org
SUMMARY:FBC Women's Precept Bible Study
DESCRIPTION:Precept Bible Studies Overview: \nScripture guides you toward God. Precept guides you through Scripture. \nWe believe that relationship with God comes through knowing His Word\, and that means studying it hands-on. Precept’s Method explains the nuts and bolts of our studies so that every student can discover God’s truth for themselves. \nThese steps—observation\, interpretation\, application—are numbered for clarity\, but it’s important to remember that you don’t have to use them in order. As you study\, you should expect to move fluidly between steps and respond to the text as it is presented. \nOur Ladies Precept Group will begin the Book of Exodus on Thursday January 22nd.  \nPrecept Upon Precept Book:  $25\nIn-N-Out Book:  $23 \nThere will be no childcare provided for this study.
URL:https://richmondhill.org/event/fbc-womens-precept-bible-study/2026-02-19/
CATEGORIES:women
ATTACH;FMTTYPE=image/png:https://richmondhill.org/wp-content/uploads/2026/01/Exodus.png
END:VEVENT
BEGIN:VEVENT
DTSTART;TZID=America/New_York:20260218T183000
DTEND;TZID=America/New_York:20260218T200000
DTSTAMP:20260423T175452
CREATED:20260114T171429Z
LAST-MODIFIED:20260114T171617Z
UID:10001523-1771439400-1771444800@richmondhill.org
SUMMARY:The Truth Project
DESCRIPTION:Meeting on Wednesdays at 6:30pm\, this series aims to help viewers understand and apply a Biblical perspective to all areas of life. The curriculum consists of video lessons covering topics like “What is Truth?\,” “Who is Man?\,” and “Whose Law?” It features insights from Biblical experts such as R.C. Sproul\, Os Guinness\, and John Stonestreet. Begins January 7th!
URL:https://richmondhill.org/event/the-truth-project/2026-02-18/
ATTACH;FMTTYPE=image/png:https://richmondhill.org/wp-content/uploads/2026/01/The-Truth-Project.png
END:VEVENT
BEGIN:VEVENT
DTSTART;TZID=America/New_York:20260216T183000
DTEND;TZID=America/New_York:20260216T200000
DTSTAMP:20260423T175452
CREATED:20260114T171038Z
LAST-MODIFIED:20260114T171038Z
UID:10001503-1771266600-1771272000@richmondhill.org
SUMMARY:Men & Teens Bible Study
DESCRIPTION:
URL:https://richmondhill.org/event/men-teens-bible-study/2026-02-16/
CATEGORIES:Men
ATTACH;FMTTYPE=image/png:https://richmondhill.org/wp-content/uploads/2026/01/BIBLE-STUDY-copy.png
END:VEVENT
BEGIN:VEVENT
DTSTART;TZID=America/New_York:20260213T180000
DTEND;TZID=America/New_York:20260213T210000
DTSTAMP:20260423T175452
CREATED:20250212T173204Z
LAST-MODIFIED:20250212T173204Z
UID:10000572-1771005600-1771016400@richmondhill.org
SUMMARY:Night to Shine
DESCRIPTION:Plan to join us for our 2026 Night to Shine as we honor our kings and queens!
URL:https://richmondhill.org/event/night-to-shine-2/
ATTACH;FMTTYPE=image/png:https://richmondhill.org/wp-content/uploads/2025/02/Save-the-Date.png
END:VEVENT
BEGIN:VEVENT
DTSTART;TZID=America/New_York:20260212T183000
DTEND;TZID=America/New_York:20260212T200000
DTSTAMP:20260423T175452
CREATED:20260114T171853Z
LAST-MODIFIED:20260114T171853Z
UID:10001534-1770921000-1770926400@richmondhill.org
SUMMARY:Financial Peace University
DESCRIPTION:Take control of your money with Financial Peace University! This nine-week class uses Biblical wisdom and common sense to help you tackle budgeting\, pay off debt\, and invest for your future! You can sign up in the church office. Classes start Thursday\, January 8\, at 6:30pm.
URL:https://richmondhill.org/event/financial-peace-university/2026-02-12/
ATTACH;FMTTYPE=image/png:https://richmondhill.org/wp-content/uploads/2026/01/Financial-Peace-University.png
END:VEVENT
BEGIN:VEVENT
DTSTART;TZID=America/New_York:20260212T093000
DTEND;TZID=America/New_York:20260212T113000
DTSTAMP:20260423T175452
CREATED:20260114T165317Z
LAST-MODIFIED:20260114T170021Z
UID:10001425-1770888600-1770895800@richmondhill.org
SUMMARY:FBC Women's Precept Bible Study
DESCRIPTION:Precept Bible Studies Overview: \nScripture guides you toward God. Precept guides you through Scripture. \nWe believe that relationship with God comes through knowing His Word\, and that means studying it hands-on. Precept’s Method explains the nuts and bolts of our studies so that every student can discover God’s truth for themselves. \nThese steps—observation\, interpretation\, application—are numbered for clarity\, but it’s important to remember that you don’t have to use them in order. As you study\, you should expect to move fluidly between steps and respond to the text as it is presented. \nOur Ladies Precept Group will begin the Book of Exodus on Thursday January 22nd.  \nPrecept Upon Precept Book:  $25\nIn-N-Out Book:  $23 \nThere will be no childcare provided for this study.
URL:https://richmondhill.org/event/fbc-womens-precept-bible-study/2026-02-12/
CATEGORIES:women
ATTACH;FMTTYPE=image/png:https://richmondhill.org/wp-content/uploads/2026/01/Exodus.png
END:VEVENT
BEGIN:VEVENT
DTSTART;TZID=America/New_York:20260211T183000
DTEND;TZID=America/New_York:20260211T200000
DTSTAMP:20260423T175452
CREATED:20260114T171429Z
LAST-MODIFIED:20260114T171617Z
UID:10001522-1770834600-1770840000@richmondhill.org
SUMMARY:The Truth Project
DESCRIPTION:Meeting on Wednesdays at 6:30pm\, this series aims to help viewers understand and apply a Biblical perspective to all areas of life. The curriculum consists of video lessons covering topics like “What is Truth?\,” “Who is Man?\,” and “Whose Law?” It features insights from Biblical experts such as R.C. Sproul\, Os Guinness\, and John Stonestreet. Begins January 7th!
URL:https://richmondhill.org/event/the-truth-project/2026-02-11/
ATTACH;FMTTYPE=image/png:https://richmondhill.org/wp-content/uploads/2026/01/The-Truth-Project.png
END:VEVENT
BEGIN:VEVENT
DTSTART;TZID=America/New_York:20260209T183000
DTEND;TZID=America/New_York:20260209T200000
DTSTAMP:20260423T175452
CREATED:20260114T171038Z
LAST-MODIFIED:20260114T171038Z
UID:10001502-1770661800-1770667200@richmondhill.org
SUMMARY:Men & Teens Bible Study
DESCRIPTION:
URL:https://richmondhill.org/event/men-teens-bible-study/2026-02-09/
CATEGORIES:Men
ATTACH;FMTTYPE=image/png:https://richmondhill.org/wp-content/uploads/2026/01/BIBLE-STUDY-copy.png
END:VEVENT
BEGIN:VEVENT
DTSTART;TZID=America/New_York:20260209T183000
DTEND;TZID=America/New_York:20260209T200000
DTSTAMP:20260423T175452
CREATED:20260114T165915Z
LAST-MODIFIED:20260114T165915Z
UID:10001488-1770661800-1770667200@richmondhill.org
SUMMARY:FBC Women & Teens Bible Study
DESCRIPTION:Start the New Year with the Preparation of the Gospel! \nMost Christians want to share their faith but don’t out of fear—fear of not knowing enough\, offending others\, or being rejected or ridiculed. This four-session study will teach you a natural\, nonthreatening way to share the gospel that reduces the pressure\, arguments\, and fear of failure. You’ll learn how to use simple questions in the course of everyday conversations to lead someone to faith in Christ. You’ll also learn how to let the Bible provide the answers to someone’s spiritual need as the Holy Spirit convicts and convinces the person through the power of God’s Word. Just like thousands of others who’ve learned this approach to evangelism\, you too can experience the joy of sharing Jesus without fear.\nChildcare is offered at all times.\n\nBehold the Savior \n\nTeens & Women: Mondays at 6:30pm\nTuesdays at 9:30am\nWednesdays at 6:30pm\n\nCosts:\n$10 per book. \nWe’re so excited to have you join us!
URL:https://richmondhill.org/event/fbc-women-teens-bible-study/2026-02-09/
CATEGORIES:women
ATTACH;FMTTYPE=image/png:https://richmondhill.org/wp-content/uploads/2026/01/Share-Jesus-without-Fear.png
END:VEVENT
BEGIN:VEVENT
DTSTART;TZID=America/New_York:20260205T183000
DTEND;TZID=America/New_York:20260205T200000
DTSTAMP:20260423T175452
CREATED:20260114T171853Z
LAST-MODIFIED:20260114T171853Z
UID:10001533-1770316200-1770321600@richmondhill.org
SUMMARY:Financial Peace University
DESCRIPTION:Take control of your money with Financial Peace University! This nine-week class uses Biblical wisdom and common sense to help you tackle budgeting\, pay off debt\, and invest for your future! You can sign up in the church office. Classes start Thursday\, January 8\, at 6:30pm.
URL:https://richmondhill.org/event/financial-peace-university/2026-02-05/
ATTACH;FMTTYPE=image/png:https://richmondhill.org/wp-content/uploads/2026/01/Financial-Peace-University.png
END:VEVENT
BEGIN:VEVENT
DTSTART;TZID=America/New_York:20260205T093000
DTEND;TZID=America/New_York:20260205T113000
DTSTAMP:20260423T175452
CREATED:20260114T165317Z
LAST-MODIFIED:20260114T170021Z
UID:10001424-1770283800-1770291000@richmondhill.org
SUMMARY:FBC Women's Precept Bible Study
DESCRIPTION:Precept Bible Studies Overview: \nScripture guides you toward God. Precept guides you through Scripture. \nWe believe that relationship with God comes through knowing His Word\, and that means studying it hands-on. Precept’s Method explains the nuts and bolts of our studies so that every student can discover God’s truth for themselves. \nThese steps—observation\, interpretation\, application—are numbered for clarity\, but it’s important to remember that you don’t have to use them in order. As you study\, you should expect to move fluidly between steps and respond to the text as it is presented. \nOur Ladies Precept Group will begin the Book of Exodus on Thursday January 22nd.  \nPrecept Upon Precept Book:  $25\nIn-N-Out Book:  $23 \nThere will be no childcare provided for this study.
URL:https://richmondhill.org/event/fbc-womens-precept-bible-study/2026-02-05/
CATEGORIES:women
ATTACH;FMTTYPE=image/png:https://richmondhill.org/wp-content/uploads/2026/01/Exodus.png
END:VEVENT
BEGIN:VEVENT
DTSTART;TZID=America/New_York:20260204T183000
DTEND;TZID=America/New_York:20260204T200000
DTSTAMP:20260423T175452
CREATED:20260114T171429Z
LAST-MODIFIED:20260114T171617Z
UID:10001521-1770229800-1770235200@richmondhill.org
SUMMARY:The Truth Project
DESCRIPTION:Meeting on Wednesdays at 6:30pm\, this series aims to help viewers understand and apply a Biblical perspective to all areas of life. The curriculum consists of video lessons covering topics like “What is Truth?\,” “Who is Man?\,” and “Whose Law?” It features insights from Biblical experts such as R.C. Sproul\, Os Guinness\, and John Stonestreet. Begins January 7th!
URL:https://richmondhill.org/event/the-truth-project/2026-02-04/
ATTACH;FMTTYPE=image/png:https://richmondhill.org/wp-content/uploads/2026/01/The-Truth-Project.png
END:VEVENT
BEGIN:VEVENT
DTSTART;TZID=America/New_York:20260203T093000
DTEND;TZID=America/New_York:20260203T113000
DTSTAMP:20260423T175452
CREATED:20260114T170306Z
LAST-MODIFIED:20260114T170559Z
UID:10001492-1770111000-1770118200@richmondhill.org
SUMMARY:FBC Women's Bible Study
DESCRIPTION:Start the New Year with the Preparation of the Gospel! \nMost Christians want to share their faith but don’t out of fear—fear of not knowing enough\, offending others\, or being rejected or ridiculed. This four-session study will teach you a natural\, nonthreatening way to share the gospel that reduces the pressure\, arguments\, and fear of failure. You’ll learn how to use simple questions in the course of everyday conversations to lead someone to faith in Christ. You’ll also learn how to let the Bible provide the answers to someone’s spiritual need as the Holy Spirit convicts and convinces the person through the power of God’s Word. Just like thousands of others who’ve learned this approach to evangelism\, you too can experience the joy of sharing Jesus without fear.\nChildcare is offered at all times.\n\nBehold the Savior \n\nTeens & Women: Mondays at 6:30pm\nTuesdays at 9:30am\nWednesdays at 6:30pm\n\nCosts:\n$10 per book. \nWe’re so excited to have you join us!
URL:https://richmondhill.org/event/fbc-womens-bible-study/2026-02-03/
CATEGORIES:women
ATTACH;FMTTYPE=image/png:https://richmondhill.org/wp-content/uploads/2026/01/Share-Jesus-without-Fear.png
END:VEVENT
BEGIN:VEVENT
DTSTART;TZID=America/New_York:20260202T183000
DTEND;TZID=America/New_York:20260202T200000
DTSTAMP:20260423T175452
CREATED:20260114T171038Z
LAST-MODIFIED:20260114T171038Z
UID:10001501-1770057000-1770062400@richmondhill.org
SUMMARY:Men & Teens Bible Study
DESCRIPTION:
URL:https://richmondhill.org/event/men-teens-bible-study/2026-02-02/
CATEGORIES:Men
ATTACH;FMTTYPE=image/png:https://richmondhill.org/wp-content/uploads/2026/01/BIBLE-STUDY-copy.png
END:VEVENT
BEGIN:VEVENT
DTSTART;TZID=America/New_York:20260202T183000
DTEND;TZID=America/New_York:20260202T200000
DTSTAMP:20260423T175452
CREATED:20260114T165915Z
LAST-MODIFIED:20260114T165915Z
UID:10001487-1770057000-1770062400@richmondhill.org
SUMMARY:FBC Women & Teens Bible Study
DESCRIPTION:Start the New Year with the Preparation of the Gospel! \nMost Christians want to share their faith but don’t out of fear—fear of not knowing enough\, offending others\, or being rejected or ridiculed. This four-session study will teach you a natural\, nonthreatening way to share the gospel that reduces the pressure\, arguments\, and fear of failure. You’ll learn how to use simple questions in the course of everyday conversations to lead someone to faith in Christ. You’ll also learn how to let the Bible provide the answers to someone’s spiritual need as the Holy Spirit convicts and convinces the person through the power of God’s Word. Just like thousands of others who’ve learned this approach to evangelism\, you too can experience the joy of sharing Jesus without fear.\nChildcare is offered at all times.\n\nBehold the Savior \n\nTeens & Women: Mondays at 6:30pm\nTuesdays at 9:30am\nWednesdays at 6:30pm\n\nCosts:\n$10 per book. \nWe’re so excited to have you join us!
URL:https://richmondhill.org/event/fbc-women-teens-bible-study/2026-02-02/
CATEGORIES:women
ATTACH;FMTTYPE=image/png:https://richmondhill.org/wp-content/uploads/2026/01/Share-Jesus-without-Fear.png
END:VEVENT
BEGIN:VEVENT
DTSTART;TZID=America/New_York:20260129T183000
DTEND;TZID=America/New_York:20260129T200000
DTSTAMP:20260423T175452
CREATED:20260114T171853Z
LAST-MODIFIED:20260114T171853Z
UID:10001532-1769711400-1769716800@richmondhill.org
SUMMARY:Financial Peace University
DESCRIPTION:Take control of your money with Financial Peace University! This nine-week class uses Biblical wisdom and common sense to help you tackle budgeting\, pay off debt\, and invest for your future! You can sign up in the church office. Classes start Thursday\, January 8\, at 6:30pm.
URL:https://richmondhill.org/event/financial-peace-university/2026-01-29/
ATTACH;FMTTYPE=image/png:https://richmondhill.org/wp-content/uploads/2026/01/Financial-Peace-University.png
END:VEVENT
BEGIN:VEVENT
DTSTART;TZID=America/New_York:20260129T093000
DTEND;TZID=America/New_York:20260129T113000
DTSTAMP:20260423T175452
CREATED:20260114T165317Z
LAST-MODIFIED:20260114T170021Z
UID:10001423-1769679000-1769686200@richmondhill.org
SUMMARY:FBC Women's Precept Bible Study
DESCRIPTION:Precept Bible Studies Overview: \nScripture guides you toward God. Precept guides you through Scripture. \nWe believe that relationship with God comes through knowing His Word\, and that means studying it hands-on. Precept’s Method explains the nuts and bolts of our studies so that every student can discover God’s truth for themselves. \nThese steps—observation\, interpretation\, application—are numbered for clarity\, but it’s important to remember that you don’t have to use them in order. As you study\, you should expect to move fluidly between steps and respond to the text as it is presented. \nOur Ladies Precept Group will begin the Book of Exodus on Thursday January 22nd.  \nPrecept Upon Precept Book:  $25\nIn-N-Out Book:  $23 \nThere will be no childcare provided for this study.
URL:https://richmondhill.org/event/fbc-womens-precept-bible-study/2026-01-29/
CATEGORIES:women
ATTACH;FMTTYPE=image/png:https://richmondhill.org/wp-content/uploads/2026/01/Exodus.png
END:VEVENT
BEGIN:VEVENT
DTSTART;TZID=America/New_York:20260128T183000
DTEND;TZID=America/New_York:20260128T200000
DTSTAMP:20260423T175452
CREATED:20260114T171429Z
LAST-MODIFIED:20260114T171617Z
UID:10001520-1769625000-1769630400@richmondhill.org
SUMMARY:The Truth Project
DESCRIPTION:Meeting on Wednesdays at 6:30pm\, this series aims to help viewers understand and apply a Biblical perspective to all areas of life. The curriculum consists of video lessons covering topics like “What is Truth?\,” “Who is Man?\,” and “Whose Law?” It features insights from Biblical experts such as R.C. Sproul\, Os Guinness\, and John Stonestreet. Begins January 7th!
URL:https://richmondhill.org/event/the-truth-project/2026-01-28/
ATTACH;FMTTYPE=image/png:https://richmondhill.org/wp-content/uploads/2026/01/The-Truth-Project.png
END:VEVENT
BEGIN:VEVENT
DTSTART;TZID=America/New_York:20260128T183000
DTEND;TZID=America/New_York:20260128T200000
DTSTAMP:20260423T175452
CREATED:20260114T170525Z
LAST-MODIFIED:20260114T170703Z
UID:10001496-1769625000-1769630400@richmondhill.org
SUMMARY:FBC Women's Bible Study
DESCRIPTION:Start the New Year with the Preparation of the Gospel! \nMost Christians want to share their faith but don’t out of fear—fear of not knowing enough\, offending others\, or being rejected or ridiculed. This four-session study will teach you a natural\, nonthreatening way to share the gospel that reduces the pressure\, arguments\, and fear of failure. You’ll learn how to use simple questions in the course of everyday conversations to lead someone to faith in Christ. You’ll also learn how to let the Bible provide the answers to someone’s spiritual need as the Holy Spirit convicts and convinces the person through the power of God’s Word. Just like thousands of others who’ve learned this approach to evangelism\, you too can experience the joy of sharing Jesus without fear.\nChildcare is offered at all times.\n\nBehold the Savior \n\nTeens & Women: Mondays at 6:30pm\nTuesdays at 9:30am\nWednesdays at 6:30pm\n\nCosts:\n$10 per book. \nWe’re so excited to have you join us!
URL:https://richmondhill.org/event/fbc-women-bible-study/2026-01-28/
CATEGORIES:women
ATTACH;FMTTYPE=image/png:https://richmondhill.org/wp-content/uploads/2026/01/Share-Jesus-without-Fear.png
END:VEVENT
END:VCALENDAR