BEGIN:VCALENDAR
VERSION:2.0
PRODID:-//Richmond Hill - ECPv6.15.18//NONSGML v1.0//EN
CALSCALE:GREGORIAN
METHOD:PUBLISH
X-ORIGINAL-URL:https://richmondhill.org
X-WR-CALDESC:Events for Richmond Hill
REFRESH-INTERVAL;VALUE=DURATION:PT1H
X-Robots-Tag:noindex
X-PUBLISHED-TTL:PT1H
BEGIN:VTIMEZONE
TZID:America/New_York
BEGIN:DAYLIGHT
TZOFFSETFROM:-0500
TZOFFSETTO:-0400
TZNAME:EDT
DTSTART:20250309T070000
END:DAYLIGHT
BEGIN:STANDARD
TZOFFSETFROM:-0400
TZOFFSETTO:-0500
TZNAME:EST
DTSTART:20251102T060000
END:STANDARD
BEGIN:DAYLIGHT
TZOFFSETFROM:-0500
TZOFFSETTO:-0400
TZNAME:EDT
DTSTART:20260308T070000
END:DAYLIGHT
BEGIN:STANDARD
TZOFFSETFROM:-0400
TZOFFSETTO:-0500
TZNAME:EST
DTSTART:20261101T060000
END:STANDARD
BEGIN:DAYLIGHT
TZOFFSETFROM:-0500
TZOFFSETTO:-0400
TZNAME:EDT
DTSTART:20270314T070000
END:DAYLIGHT
BEGIN:STANDARD
TZOFFSETFROM:-0400
TZOFFSETTO:-0500
TZNAME:EST
DTSTART:20271107T060000
END:STANDARD
END:VTIMEZONE
BEGIN:VEVENT
DTSTART;TZID=America/New_York:20260323T183000
DTEND;TZID=America/New_York:20260323T200000
DTSTAMP:20260423T163003
CREATED:20260114T171038Z
LAST-MODIFIED:20260114T171038Z
UID:10001508-1774290600-1774296000@richmondhill.org
SUMMARY:Men & Teens Bible Study
DESCRIPTION:
URL:https://richmondhill.org/event/men-teens-bible-study/2026-03-23/
CATEGORIES:Men
ATTACH;FMTTYPE=image/png:https://richmondhill.org/wp-content/uploads/2026/01/BIBLE-STUDY-copy.png
END:VEVENT
BEGIN:VEVENT
DTSTART;TZID=America/New_York:20260325T183000
DTEND;TZID=America/New_York:20260325T200000
DTSTAMP:20260423T163003
CREATED:20260114T171429Z
LAST-MODIFIED:20260114T171617Z
UID:10001528-1774463400-1774468800@richmondhill.org
SUMMARY:The Truth Project
DESCRIPTION:Meeting on Wednesdays at 6:30pm\, this series aims to help viewers understand and apply a Biblical perspective to all areas of life. The curriculum consists of video lessons covering topics like “What is Truth?\,” “Who is Man?\,” and “Whose Law?” It features insights from Biblical experts such as R.C. Sproul\, Os Guinness\, and John Stonestreet. Begins January 7th!
URL:https://richmondhill.org/event/the-truth-project/2026-03-25/
ATTACH;FMTTYPE=image/png:https://richmondhill.org/wp-content/uploads/2026/01/The-Truth-Project.png
END:VEVENT
BEGIN:VEVENT
DTSTART;TZID=America/New_York:20260326T093000
DTEND;TZID=America/New_York:20260326T113000
DTSTAMP:20260423T163003
CREATED:20260114T165317Z
LAST-MODIFIED:20260114T170021Z
UID:10001431-1774517400-1774524600@richmondhill.org
SUMMARY:FBC Women's Precept Bible Study
DESCRIPTION:Precept Bible Studies Overview: \nScripture guides you toward God. Precept guides you through Scripture. \nWe believe that relationship with God comes through knowing His Word\, and that means studying it hands-on. Precept’s Method explains the nuts and bolts of our studies so that every student can discover God’s truth for themselves. \nThese steps—observation\, interpretation\, application—are numbered for clarity\, but it’s important to remember that you don’t have to use them in order. As you study\, you should expect to move fluidly between steps and respond to the text as it is presented. \nOur Ladies Precept Group will begin the Book of Exodus on Thursday January 22nd.  \nPrecept Upon Precept Book:  $25\nIn-N-Out Book:  $23 \nThere will be no childcare provided for this study.
URL:https://richmondhill.org/event/fbc-womens-precept-bible-study/2026-03-26/
CATEGORIES:women
ATTACH;FMTTYPE=image/png:https://richmondhill.org/wp-content/uploads/2026/01/Exodus.png
END:VEVENT
BEGIN:VEVENT
DTSTART;TZID=America/New_York:20260330T183000
DTEND;TZID=America/New_York:20260330T200000
DTSTAMP:20260423T163003
CREATED:20260114T171038Z
LAST-MODIFIED:20260114T171038Z
UID:10001509-1774895400-1774900800@richmondhill.org
SUMMARY:Men & Teens Bible Study
DESCRIPTION:
URL:https://richmondhill.org/event/men-teens-bible-study/2026-03-30/
CATEGORIES:Men
ATTACH;FMTTYPE=image/png:https://richmondhill.org/wp-content/uploads/2026/01/BIBLE-STUDY-copy.png
END:VEVENT
BEGIN:VEVENT
DTSTART;TZID=America/New_York:20260406T183000
DTEND;TZID=America/New_York:20260406T200000
DTSTAMP:20260423T163003
CREATED:20260114T171038Z
LAST-MODIFIED:20260114T171038Z
UID:10001510-1775500200-1775505600@richmondhill.org
SUMMARY:Men & Teens Bible Study
DESCRIPTION:
URL:https://richmondhill.org/event/men-teens-bible-study/2026-04-06/
CATEGORIES:Men
ATTACH;FMTTYPE=image/png:https://richmondhill.org/wp-content/uploads/2026/01/BIBLE-STUDY-copy.png
END:VEVENT
BEGIN:VEVENT
DTSTART;TZID=America/New_York:20260413T183000
DTEND;TZID=America/New_York:20260413T200000
DTSTAMP:20260423T163003
CREATED:20260114T171038Z
LAST-MODIFIED:20260114T171038Z
UID:10001511-1776105000-1776110400@richmondhill.org
SUMMARY:Men & Teens Bible Study
DESCRIPTION:
URL:https://richmondhill.org/event/men-teens-bible-study/2026-04-13/
CATEGORIES:Men
ATTACH;FMTTYPE=image/png:https://richmondhill.org/wp-content/uploads/2026/01/BIBLE-STUDY-copy.png
END:VEVENT
BEGIN:VEVENT
DTSTART;TZID=America/New_York:20260420T183000
DTEND;TZID=America/New_York:20260420T200000
DTSTAMP:20260423T163003
CREATED:20260114T171038Z
LAST-MODIFIED:20260114T171038Z
UID:10001512-1776709800-1776715200@richmondhill.org
SUMMARY:Men & Teens Bible Study
DESCRIPTION:
URL:https://richmondhill.org/event/men-teens-bible-study/2026-04-20/
CATEGORIES:Men
ATTACH;FMTTYPE=image/png:https://richmondhill.org/wp-content/uploads/2026/01/BIBLE-STUDY-copy.png
END:VEVENT
BEGIN:VEVENT
DTSTART;TZID=America/New_York:20260427T183000
DTEND;TZID=America/New_York:20260427T200000
DTSTAMP:20260423T163003
CREATED:20260114T171038Z
LAST-MODIFIED:20260114T171038Z
UID:10001513-1777314600-1777320000@richmondhill.org
SUMMARY:Men & Teens Bible Study
DESCRIPTION:
URL:https://richmondhill.org/event/men-teens-bible-study/2026-04-27/
CATEGORIES:Men
ATTACH;FMTTYPE=image/png:https://richmondhill.org/wp-content/uploads/2026/01/BIBLE-STUDY-copy.png
END:VEVENT
BEGIN:VEVENT
DTSTART;TZID=America/New_York:20260503T103000
DTEND;TZID=America/New_York:20260503T120000
DTSTAMP:20260423T163003
CREATED:20260114T193354Z
LAST-MODIFIED:20260318T131536Z
UID:10001546-1777804200-1777809600@richmondhill.org
SUMMARY:Member Connections: Catch the Vision
DESCRIPTION:Our Member Connections classes will help guide you through the membership journey here at FBC! This is a 2 week series – held the 1st & 2nd Sundays of every other month – that will walk you through our church’s beliefs\, what it looks like to be a member\, as well as help you get connected into the church family in discipleship & service. \nThe next Member Connections will take place on May 3rd and May 10th at 10:30. This registration form is for both classes. \nPlease register no later than the Wednesday before so we can have a final count for these classes. \nConnections 101: Catch the Vision\nOpen to anyone who would like to learn more about our church and our core beliefs. You will also be given the opportunity to join our church family & get further connected within our church. \nConnections 201: Discover Your Place\nOpen to all members to discover how your gifts\, personalities\, passions\, & life experiences are beautifully coordinated to find the right place of connection and service here at FBC! \nIf you have children\, our FBC Kids meets in Sunday Groups at 10:30. FBC Students will be attending the 10:30 Worship Service.
URL:https://richmondhill.org/event/member-connections-catch-the-vision-2/2026-05-03/
CATEGORIES:Member Connections
ATTACH;FMTTYPE=image/png:https://richmondhill.org/wp-content/uploads/2026/03/Member-Connections.png
END:VEVENT
BEGIN:VEVENT
DTSTART;TZID=America/New_York:20260504T183000
DTEND;TZID=America/New_York:20260504T200000
DTSTAMP:20260423T163003
CREATED:20260114T171038Z
LAST-MODIFIED:20260114T171038Z
UID:10001514-1777919400-1777924800@richmondhill.org
SUMMARY:Men & Teens Bible Study
DESCRIPTION:
URL:https://richmondhill.org/event/men-teens-bible-study/2026-05-04/
CATEGORIES:Men
ATTACH;FMTTYPE=image/png:https://richmondhill.org/wp-content/uploads/2026/01/BIBLE-STUDY-copy.png
END:VEVENT
BEGIN:VEVENT
DTSTART;TZID=America/New_York:20260510T103000
DTEND;TZID=America/New_York:20260510T120000
DTSTAMP:20260423T163003
CREATED:20260114T193506Z
LAST-MODIFIED:20260318T131956Z
UID:10001543-1778409000-1778414400@richmondhill.org
SUMMARY:Member Connections: Discover Your Place
DESCRIPTION:
URL:https://richmondhill.org/event/member-connections-discover-your-place-3/2026-05-10/
CATEGORIES:Member Connections
ATTACH;FMTTYPE=image/png:https://richmondhill.org/wp-content/uploads/2026/03/Member-Connections.png
END:VEVENT
BEGIN:VEVENT
DTSTART;TZID=America/New_York:20260511T183000
DTEND;TZID=America/New_York:20260511T200000
DTSTAMP:20260423T163003
CREATED:20260114T171038Z
LAST-MODIFIED:20260114T171038Z
UID:10001515-1778524200-1778529600@richmondhill.org
SUMMARY:Men & Teens Bible Study
DESCRIPTION:
URL:https://richmondhill.org/event/men-teens-bible-study/2026-05-11/
CATEGORIES:Men
ATTACH;FMTTYPE=image/png:https://richmondhill.org/wp-content/uploads/2026/01/BIBLE-STUDY-copy.png
END:VEVENT
BEGIN:VEVENT
DTSTART;TZID=America/New_York:20260518T183000
DTEND;TZID=America/New_York:20260518T200000
DTSTAMP:20260423T163003
CREATED:20260114T171038Z
LAST-MODIFIED:20260114T171038Z
UID:10001516-1779129000-1779134400@richmondhill.org
SUMMARY:Men & Teens Bible Study
DESCRIPTION:
URL:https://richmondhill.org/event/men-teens-bible-study/2026-05-18/
CATEGORIES:Men
ATTACH;FMTTYPE=image/png:https://richmondhill.org/wp-content/uploads/2026/01/BIBLE-STUDY-copy.png
END:VEVENT
BEGIN:VEVENT
DTSTART;TZID=America/New_York:20260705T103000
DTEND;TZID=America/New_York:20260705T120000
DTSTAMP:20260423T163003
CREATED:20260114T193354Z
LAST-MODIFIED:20260318T131536Z
UID:10001547-1783247400-1783252800@richmondhill.org
SUMMARY:Member Connections: Catch the Vision
DESCRIPTION:Our Member Connections classes will help guide you through the membership journey here at FBC! This is a 2 week series – held the 1st & 2nd Sundays of every other month – that will walk you through our church’s beliefs\, what it looks like to be a member\, as well as help you get connected into the church family in discipleship & service. \nThe next Member Connections will take place on May 3rd and May 10th at 10:30. This registration form is for both classes. \nPlease register no later than the Wednesday before so we can have a final count for these classes. \nConnections 101: Catch the Vision\nOpen to anyone who would like to learn more about our church and our core beliefs. You will also be given the opportunity to join our church family & get further connected within our church. \nConnections 201: Discover Your Place\nOpen to all members to discover how your gifts\, personalities\, passions\, & life experiences are beautifully coordinated to find the right place of connection and service here at FBC! \nIf you have children\, our FBC Kids meets in Sunday Groups at 10:30. FBC Students will be attending the 10:30 Worship Service.
URL:https://richmondhill.org/event/member-connections-catch-the-vision-2/2026-07-05/
CATEGORIES:Member Connections
ATTACH;FMTTYPE=image/png:https://richmondhill.org/wp-content/uploads/2026/03/Member-Connections.png
END:VEVENT
BEGIN:VEVENT
DTSTART;VALUE=DATE:20260711
DTEND;VALUE=DATE:20260718
DTSTAMP:20260423T163003
CREATED:20260114T192701Z
LAST-MODIFIED:20260114T192701Z
UID:10001538-1783728000-1784332799@richmondhill.org
SUMMARY:Mission Trip to Ashland\, Kentucky
DESCRIPTION:
URL:https://richmondhill.org/event/mission-trip-to-ashland-kentucky/
CATEGORIES:mission
ATTACH;FMTTYPE=image/png:https://richmondhill.org/wp-content/uploads/2026/01/2026-MISSION-TRIPS.png
END:VEVENT
BEGIN:VEVENT
DTSTART;VALUE=DATE:20260711
DTEND;VALUE=DATE:20260719
DTSTAMP:20260423T163003
CREATED:20260114T192800Z
LAST-MODIFIED:20260114T192800Z
UID:10001539-1783728000-1784419199@richmondhill.org
SUMMARY:Mission Trip to Jamaica
DESCRIPTION:
URL:https://richmondhill.org/event/mission-trip-to-jamaica/
CATEGORIES:mission
ATTACH;FMTTYPE=image/png:https://richmondhill.org/wp-content/uploads/2026/01/2026-MISSION-TRIPS.png
END:VEVENT
BEGIN:VEVENT
DTSTART;TZID=America/New_York:20260712T103000
DTEND;TZID=America/New_York:20260712T120000
DTSTAMP:20260423T163003
CREATED:20260114T193506Z
LAST-MODIFIED:20260318T131956Z
UID:10001544-1783852200-1783857600@richmondhill.org
SUMMARY:Member Connections: Discover Your Place
DESCRIPTION:
URL:https://richmondhill.org/event/member-connections-discover-your-place-3/2026-07-12/
CATEGORIES:Member Connections
ATTACH;FMTTYPE=image/png:https://richmondhill.org/wp-content/uploads/2026/03/Member-Connections.png
END:VEVENT
BEGIN:VEVENT
DTSTART;TZID=America/New_York:20260906T103000
DTEND;TZID=America/New_York:20260906T120000
DTSTAMP:20260423T163003
CREATED:20260114T193354Z
LAST-MODIFIED:20260318T131536Z
UID:10001548-1788690600-1788696000@richmondhill.org
SUMMARY:Member Connections: Catch the Vision
DESCRIPTION:Our Member Connections classes will help guide you through the membership journey here at FBC! This is a 2 week series – held the 1st & 2nd Sundays of every other month – that will walk you through our church’s beliefs\, what it looks like to be a member\, as well as help you get connected into the church family in discipleship & service. \nThe next Member Connections will take place on May 3rd and May 10th at 10:30. This registration form is for both classes. \nPlease register no later than the Wednesday before so we can have a final count for these classes. \nConnections 101: Catch the Vision\nOpen to anyone who would like to learn more about our church and our core beliefs. You will also be given the opportunity to join our church family & get further connected within our church. \nConnections 201: Discover Your Place\nOpen to all members to discover how your gifts\, personalities\, passions\, & life experiences are beautifully coordinated to find the right place of connection and service here at FBC! \nIf you have children\, our FBC Kids meets in Sunday Groups at 10:30. FBC Students will be attending the 10:30 Worship Service.
URL:https://richmondhill.org/event/member-connections-catch-the-vision-2/2026-09-06/
CATEGORIES:Member Connections
ATTACH;FMTTYPE=image/png:https://richmondhill.org/wp-content/uploads/2026/03/Member-Connections.png
END:VEVENT
BEGIN:VEVENT
DTSTART;TZID=America/New_York:20260913T103000
DTEND;TZID=America/New_York:20260913T120000
DTSTAMP:20260423T163003
CREATED:20260114T193506Z
LAST-MODIFIED:20260318T131956Z
UID:10001545-1789295400-1789300800@richmondhill.org
SUMMARY:Member Connections: Discover Your Place
DESCRIPTION:
URL:https://richmondhill.org/event/member-connections-discover-your-place-3/2026-09-13/
CATEGORIES:Member Connections
ATTACH;FMTTYPE=image/png:https://richmondhill.org/wp-content/uploads/2026/03/Member-Connections.png
END:VEVENT
END:VCALENDAR