BEGIN:VCALENDAR
VERSION:2.0
PRODID:-//Richmond Hill - ECPv6.15.18//NONSGML v1.0//EN
CALSCALE:GREGORIAN
METHOD:PUBLISH
X-ORIGINAL-URL:https://richmondhill.org
X-WR-CALDESC:Events for Richmond Hill
REFRESH-INTERVAL;VALUE=DURATION:PT1H
X-Robots-Tag:noindex
X-PUBLISHED-TTL:PT1H
BEGIN:VTIMEZONE
TZID:America/New_York
BEGIN:DAYLIGHT
TZOFFSETFROM:-0500
TZOFFSETTO:-0400
TZNAME:EDT
DTSTART:20240310T070000
END:DAYLIGHT
BEGIN:STANDARD
TZOFFSETFROM:-0400
TZOFFSETTO:-0500
TZNAME:EST
DTSTART:20241103T060000
END:STANDARD
BEGIN:DAYLIGHT
TZOFFSETFROM:-0500
TZOFFSETTO:-0400
TZNAME:EDT
DTSTART:20250309T070000
END:DAYLIGHT
BEGIN:STANDARD
TZOFFSETFROM:-0400
TZOFFSETTO:-0500
TZNAME:EST
DTSTART:20251102T060000
END:STANDARD
BEGIN:DAYLIGHT
TZOFFSETFROM:-0500
TZOFFSETTO:-0400
TZNAME:EDT
DTSTART:20260308T070000
END:DAYLIGHT
BEGIN:STANDARD
TZOFFSETFROM:-0400
TZOFFSETTO:-0500
TZNAME:EST
DTSTART:20261101T060000
END:STANDARD
END:VTIMEZONE
BEGIN:VEVENT
DTSTART;TZID=America/New_York:20250803T150000
DTEND;TZID=America/New_York:20250803T160000
DTSTAMP:20260424T022056
CREATED:20250728T182620Z
LAST-MODIFIED:20250729T170042Z
UID:10001059-1754233200-1754236800@richmondhill.org
SUMMARY:FBC Women Back-to-School Prayer Time
DESCRIPTION:This coming Sunday\, August 3rd\, FBC Women will be hosting a Back-to-School Prayer Time! Join us for an intimate time of prayer to lift up our schools\, teachers\, and students for the next school year. Teachers\, moms\, homeschoolers\, and anyone who feels led to pray over this coming school year… all women are welcome!! We’ll be gathering at 3:00 in the Worship Center. Please join us!
URL:https://richmondhill.org/event/fbc-women-back-to-school-prayer-time/
CATEGORIES:women
ATTACH;FMTTYPE=image/png:https://richmondhill.org/wp-content/uploads/2025/07/Back-to-School-Prayer-Time-3.png
END:VEVENT
BEGIN:VEVENT
DTSTART;TZID=America/New_York:20250804T183000
DTEND;TZID=America/New_York:20250804T200000
DTSTAMP:20260424T022056
CREATED:20250513T212314Z
LAST-MODIFIED:20250513T212314Z
UID:10001042-1754332200-1754337600@richmondhill.org
SUMMARY:Men\, Women\, & Teens Bible Study
DESCRIPTION:Starting Monday\, May 12th\, we will be having a joint Men\, Women\, & Teens Bible Study taught by Kevin Dennis. Childcare will be provided! We’ll be meeting Monday evenings at 6:30 in D115 and will be studying the book of Romans together throughout the summer. This is open to all Men\, Women\, & Teens – we hope to have you join us!
URL:https://richmondhill.org/event/men-women-teens-bible-study/2025-08-04/
CATEGORIES:Men,Students,women
ATTACH;FMTTYPE=image/png:https://richmondhill.org/wp-content/uploads/2025/05/Men-Women-Teens-Bible-STUDY.png
END:VEVENT
BEGIN:VEVENT
DTSTART;TZID=America/New_York:20250806T183000
DTEND;TZID=America/New_York:20250806T200000
DTSTAMP:20260424T022056
CREATED:20250513T214538Z
LAST-MODIFIED:20250513T214539Z
UID:10001055-1754505000-1754510400@richmondhill.org
SUMMARY:Summer Fun Nights
DESCRIPTION:Our Summer Fun Nights are making a return this summer on five Wednesdays in June\, July\, and August. These will be a time for fun\, food\, and fellowship as a church family!
URL:https://richmondhill.org/event/summer-fun-nights/2025-08-06/
ATTACH;FMTTYPE=image/png:https://richmondhill.org/wp-content/uploads/2025/05/2025-Summer-Fun-Nights-1920-x-1080-px.png
END:VEVENT
BEGIN:VEVENT
DTSTART;VALUE=DATE:20250810
DTEND;VALUE=DATE:20250811
DTSTAMP:20260424T022056
CREATED:20250811T224805Z
LAST-MODIFIED:20250811T224807Z
UID:10001406-1754784000-1754870399@richmondhill.org
SUMMARY:Promotion Sunday
DESCRIPTION:
URL:https://richmondhill.org/event/promotion-sunday-2/
CATEGORIES:kids,Students
ATTACH;FMTTYPE=image/png:https://richmondhill.org/wp-content/uploads/2025/08/Promotion-Sunday-1.png
END:VEVENT
BEGIN:VEVENT
DTSTART;TZID=America/New_York:20250811T183000
DTEND;TZID=America/New_York:20250811T200000
DTSTAMP:20260424T022056
CREATED:20250513T212314Z
LAST-MODIFIED:20250513T212314Z
UID:10001043-1754937000-1754942400@richmondhill.org
SUMMARY:Men\, Women\, & Teens Bible Study
DESCRIPTION:Starting Monday\, May 12th\, we will be having a joint Men\, Women\, & Teens Bible Study taught by Kevin Dennis. Childcare will be provided! We’ll be meeting Monday evenings at 6:30 in D115 and will be studying the book of Romans together throughout the summer. This is open to all Men\, Women\, & Teens – we hope to have you join us!
URL:https://richmondhill.org/event/men-women-teens-bible-study/2025-08-11/
CATEGORIES:Men,Students,women
ATTACH;FMTTYPE=image/png:https://richmondhill.org/wp-content/uploads/2025/05/Men-Women-Teens-Bible-STUDY.png
END:VEVENT
BEGIN:VEVENT
DTSTART;TZID=America/New_York:20250820T183000
DTEND;TZID=America/New_York:20250820T200000
DTSTAMP:20260424T022056
CREATED:20250513T214538Z
LAST-MODIFIED:20250513T214539Z
UID:10001056-1755714600-1755720000@richmondhill.org
SUMMARY:Summer Fun Nights
DESCRIPTION:Our Summer Fun Nights are making a return this summer on five Wednesdays in June\, July\, and August. These will be a time for fun\, food\, and fellowship as a church family!
URL:https://richmondhill.org/event/summer-fun-nights/2025-08-20/
ATTACH;FMTTYPE=image/png:https://richmondhill.org/wp-content/uploads/2025/05/2025-Summer-Fun-Nights-1920-x-1080-px.png
END:VEVENT
END:VCALENDAR