BEGIN:VCALENDAR
VERSION:2.0
PRODID:-//Richmond Hill - ECPv6.15.18//NONSGML v1.0//EN
CALSCALE:GREGORIAN
METHOD:PUBLISH
X-ORIGINAL-URL:https://richmondhill.org
X-WR-CALDESC:Events for Richmond Hill
REFRESH-INTERVAL;VALUE=DURATION:PT1H
X-Robots-Tag:noindex
X-PUBLISHED-TTL:PT1H
BEGIN:VTIMEZONE
TZID:America/New_York
BEGIN:DAYLIGHT
TZOFFSETFROM:-0500
TZOFFSETTO:-0400
TZNAME:EDT
DTSTART:20240310T070000
END:DAYLIGHT
BEGIN:STANDARD
TZOFFSETFROM:-0400
TZOFFSETTO:-0500
TZNAME:EST
DTSTART:20241103T060000
END:STANDARD
BEGIN:DAYLIGHT
TZOFFSETFROM:-0500
TZOFFSETTO:-0400
TZNAME:EDT
DTSTART:20250309T070000
END:DAYLIGHT
BEGIN:STANDARD
TZOFFSETFROM:-0400
TZOFFSETTO:-0500
TZNAME:EST
DTSTART:20251102T060000
END:STANDARD
BEGIN:DAYLIGHT
TZOFFSETFROM:-0500
TZOFFSETTO:-0400
TZNAME:EDT
DTSTART:20260308T070000
END:DAYLIGHT
BEGIN:STANDARD
TZOFFSETFROM:-0400
TZOFFSETTO:-0500
TZNAME:EST
DTSTART:20261101T060000
END:STANDARD
END:VTIMEZONE
BEGIN:VEVENT
DTSTART;VALUE=DATE:20251117
DTEND;VALUE=DATE:20251125
DTSTAMP:20260423T162639
CREATED:20251121T150041Z
LAST-MODIFIED:20251121T150041Z
UID:10001415-1763337600-1764028799@richmondhill.org
SUMMARY:Operation Christmas Child Collection Week
DESCRIPTION:
URL:https://richmondhill.org/event/operation-christmas-child-collection-week/
CATEGORIES:Christmas
END:VEVENT
BEGIN:VEVENT
DTSTART;TZID=America/New_York:20251130T120000
DTEND;TZID=America/New_York:20251130T150000
DTSTAMP:20260423T162639
CREATED:20251121T145924Z
LAST-MODIFIED:20251121T145936Z
UID:10001414-1764504000-1764514800@richmondhill.org
SUMMARY:Deck the Halls
DESCRIPTION:Join us after church on Sunday\, November 30th\, to help us decorate our Worship Center for the Christmas season! Lunch will be provided.
URL:https://richmondhill.org/event/deck-the-halls/
CATEGORIES:Christmas
ATTACH;FMTTYPE=image/png:https://richmondhill.org/wp-content/uploads/2025/11/Deck-the-Halls.png
END:VEVENT
END:VCALENDAR