BEGIN:VCALENDAR
VERSION:2.0
PRODID:-//Richmond Hill - ECPv6.15.18//NONSGML v1.0//EN
CALSCALE:GREGORIAN
METHOD:PUBLISH
X-ORIGINAL-URL:https://richmondhill.org
X-WR-CALDESC:Events for Richmond Hill
REFRESH-INTERVAL;VALUE=DURATION:PT1H
X-Robots-Tag:noindex
X-PUBLISHED-TTL:PT1H
BEGIN:VTIMEZONE
TZID:America/New_York
BEGIN:DAYLIGHT
TZOFFSETFROM:-0500
TZOFFSETTO:-0400
TZNAME:EDT
DTSTART:20240310T070000
END:DAYLIGHT
BEGIN:STANDARD
TZOFFSETFROM:-0400
TZOFFSETTO:-0500
TZNAME:EST
DTSTART:20241103T060000
END:STANDARD
BEGIN:DAYLIGHT
TZOFFSETFROM:-0500
TZOFFSETTO:-0400
TZNAME:EDT
DTSTART:20250309T070000
END:DAYLIGHT
BEGIN:STANDARD
TZOFFSETFROM:-0400
TZOFFSETTO:-0500
TZNAME:EST
DTSTART:20251102T060000
END:STANDARD
BEGIN:DAYLIGHT
TZOFFSETFROM:-0500
TZOFFSETTO:-0400
TZNAME:EDT
DTSTART:20260308T070000
END:DAYLIGHT
BEGIN:STANDARD
TZOFFSETFROM:-0400
TZOFFSETTO:-0500
TZNAME:EST
DTSTART:20261101T060000
END:STANDARD
END:VTIMEZONE
BEGIN:VEVENT
DTSTART;TZID=America/New_York:20250309T103000
DTEND;TZID=America/New_York:20250309T120000
DTSTAMP:20260424T145601
CREATED:20250128T150945Z
LAST-MODIFIED:20250128T150945Z
UID:10000567-1741516200-1741521600@richmondhill.org
SUMMARY:Member Connections - March 2 & 9
DESCRIPTION:Our Member Connections classes will help guide you through the membership journey here at FBC! This is a 2 week series – held the 1st & 2nd Sundays of every other month – that will walk you through our church’s beliefs\, what it looks like to be a member\, as well as help you get connected into the church family in discipleship & service. The next Member Connections will take place on March 2nd & 9th at 10:30 in room D105. This registration form is for both classes. Please register no later than 2/26/25\, so we can have a final count for these classes.
URL:https://richmondhill.org/event/member-connections-march-2-9/2025-03-09/
CATEGORIES:Member Connections
ATTACH;FMTTYPE=image/png:https://richmondhill.org/wp-content/uploads/2025/01/Member-Connections-13.png
END:VEVENT
BEGIN:VEVENT
DTSTART;TZID=America/New_York:20250309T103000
DTEND;TZID=America/New_York:20250309T120000
DTSTAMP:20260424T145601
CREATED:20250128T151748Z
LAST-MODIFIED:20250128T151748Z
UID:10000568-1741516200-1741521600@richmondhill.org
SUMMARY:Discover Your Place
DESCRIPTION:It is our desire that every current member at FBC discovers their place in discipleship and service within our church family. We want to help you Discover Your Place by taking our Connections 201 class. This class will walk you through discovering your Spiritual Gifts\, Personality Types\, Skills\, Passions\, and Life Experiences — and learning how all of that impacts your areas of connection here at FBC! Our next class will be held on March 9th at 10:30am\, so we ask that you please register no later than March 5th. We look forward to seeing you!
URL:https://richmondhill.org/event/discover-your-place/
CATEGORIES:Member Connections
ATTACH;FMTTYPE=image/png:https://richmondhill.org/wp-content/uploads/2025/01/Announcements-_Discover-Your-Place_MARCH.png
END:VEVENT
END:VCALENDAR