BEGIN:VCALENDAR
VERSION:2.0
PRODID:-//Richmond Hill - ECPv6.15.18//NONSGML v1.0//EN
CALSCALE:GREGORIAN
METHOD:PUBLISH
X-WR-CALNAME:Richmond Hill
X-ORIGINAL-URL:https://richmondhill.org
X-WR-CALDESC:Events for Richmond Hill
REFRESH-INTERVAL;VALUE=DURATION:PT1H
X-Robots-Tag:noindex
X-PUBLISHED-TTL:PT1H
BEGIN:VTIMEZONE
TZID:America/New_York
BEGIN:DAYLIGHT
TZOFFSETFROM:-0500
TZOFFSETTO:-0400
TZNAME:EDT
DTSTART:20250309T070000
END:DAYLIGHT
BEGIN:STANDARD
TZOFFSETFROM:-0400
TZOFFSETTO:-0500
TZNAME:EST
DTSTART:20251102T060000
END:STANDARD
BEGIN:DAYLIGHT
TZOFFSETFROM:-0500
TZOFFSETTO:-0400
TZNAME:EDT
DTSTART:20260308T070000
END:DAYLIGHT
BEGIN:STANDARD
TZOFFSETFROM:-0400
TZOFFSETTO:-0500
TZNAME:EST
DTSTART:20261101T060000
END:STANDARD
BEGIN:DAYLIGHT
TZOFFSETFROM:-0500
TZOFFSETTO:-0400
TZNAME:EDT
DTSTART:20270314T070000
END:DAYLIGHT
BEGIN:STANDARD
TZOFFSETFROM:-0400
TZOFFSETTO:-0500
TZNAME:EST
DTSTART:20271107T060000
END:STANDARD
END:VTIMEZONE
BEGIN:VEVENT
DTSTART;TZID=America/New_York:20260202T183000
DTEND;TZID=America/New_York:20260202T200000
DTSTAMP:20260423T162233
CREATED:20260114T165915Z
LAST-MODIFIED:20260114T165915Z
UID:10001487-1770057000-1770062400@richmondhill.org
SUMMARY:FBC Women & Teens Bible Study
DESCRIPTION:Start the New Year with the Preparation of the Gospel! \nMost Christians want to share their faith but don’t out of fear—fear of not knowing enough\, offending others\, or being rejected or ridiculed. This four-session study will teach you a natural\, nonthreatening way to share the gospel that reduces the pressure\, arguments\, and fear of failure. You’ll learn how to use simple questions in the course of everyday conversations to lead someone to faith in Christ. You’ll also learn how to let the Bible provide the answers to someone’s spiritual need as the Holy Spirit convicts and convinces the person through the power of God’s Word. Just like thousands of others who’ve learned this approach to evangelism\, you too can experience the joy of sharing Jesus without fear.\nChildcare is offered at all times.\n\nBehold the Savior \n\nTeens & Women: Mondays at 6:30pm\nTuesdays at 9:30am\nWednesdays at 6:30pm\n\nCosts:\n$10 per book. \nWe’re so excited to have you join us!
URL:https://richmondhill.org/event/fbc-women-teens-bible-study/2026-02-02/
CATEGORIES:women
ATTACH;FMTTYPE=image/png:https://richmondhill.org/wp-content/uploads/2026/01/Share-Jesus-without-Fear.png
END:VEVENT
BEGIN:VEVENT
DTSTART;TZID=America/New_York:20260203T093000
DTEND;TZID=America/New_York:20260203T113000
DTSTAMP:20260423T162233
CREATED:20260114T170306Z
LAST-MODIFIED:20260114T170559Z
UID:10001492-1770111000-1770118200@richmondhill.org
SUMMARY:FBC Women's Bible Study
DESCRIPTION:Start the New Year with the Preparation of the Gospel! \nMost Christians want to share their faith but don’t out of fear—fear of not knowing enough\, offending others\, or being rejected or ridiculed. This four-session study will teach you a natural\, nonthreatening way to share the gospel that reduces the pressure\, arguments\, and fear of failure. You’ll learn how to use simple questions in the course of everyday conversations to lead someone to faith in Christ. You’ll also learn how to let the Bible provide the answers to someone’s spiritual need as the Holy Spirit convicts and convinces the person through the power of God’s Word. Just like thousands of others who’ve learned this approach to evangelism\, you too can experience the joy of sharing Jesus without fear.\nChildcare is offered at all times.\n\nBehold the Savior \n\nTeens & Women: Mondays at 6:30pm\nTuesdays at 9:30am\nWednesdays at 6:30pm\n\nCosts:\n$10 per book. \nWe’re so excited to have you join us!
URL:https://richmondhill.org/event/fbc-womens-bible-study/2026-02-03/
CATEGORIES:women
ATTACH;FMTTYPE=image/png:https://richmondhill.org/wp-content/uploads/2026/01/Share-Jesus-without-Fear.png
END:VEVENT
BEGIN:VEVENT
DTSTART;TZID=America/New_York:20260205T093000
DTEND;TZID=America/New_York:20260205T113000
DTSTAMP:20260423T162233
CREATED:20260114T165317Z
LAST-MODIFIED:20260114T170021Z
UID:10001424-1770283800-1770291000@richmondhill.org
SUMMARY:FBC Women's Precept Bible Study
DESCRIPTION:Precept Bible Studies Overview: \nScripture guides you toward God. Precept guides you through Scripture. \nWe believe that relationship with God comes through knowing His Word\, and that means studying it hands-on. Precept’s Method explains the nuts and bolts of our studies so that every student can discover God’s truth for themselves. \nThese steps—observation\, interpretation\, application—are numbered for clarity\, but it’s important to remember that you don’t have to use them in order. As you study\, you should expect to move fluidly between steps and respond to the text as it is presented. \nOur Ladies Precept Group will begin the Book of Exodus on Thursday January 22nd.  \nPrecept Upon Precept Book:  $25\nIn-N-Out Book:  $23 \nThere will be no childcare provided for this study.
URL:https://richmondhill.org/event/fbc-womens-precept-bible-study/2026-02-05/
CATEGORIES:women
ATTACH;FMTTYPE=image/png:https://richmondhill.org/wp-content/uploads/2026/01/Exodus.png
END:VEVENT
BEGIN:VEVENT
DTSTART;TZID=America/New_York:20260209T183000
DTEND;TZID=America/New_York:20260209T200000
DTSTAMP:20260423T162233
CREATED:20260114T165915Z
LAST-MODIFIED:20260114T165915Z
UID:10001488-1770661800-1770667200@richmondhill.org
SUMMARY:FBC Women & Teens Bible Study
DESCRIPTION:Start the New Year with the Preparation of the Gospel! \nMost Christians want to share their faith but don’t out of fear—fear of not knowing enough\, offending others\, or being rejected or ridiculed. This four-session study will teach you a natural\, nonthreatening way to share the gospel that reduces the pressure\, arguments\, and fear of failure. You’ll learn how to use simple questions in the course of everyday conversations to lead someone to faith in Christ. You’ll also learn how to let the Bible provide the answers to someone’s spiritual need as the Holy Spirit convicts and convinces the person through the power of God’s Word. Just like thousands of others who’ve learned this approach to evangelism\, you too can experience the joy of sharing Jesus without fear.\nChildcare is offered at all times.\n\nBehold the Savior \n\nTeens & Women: Mondays at 6:30pm\nTuesdays at 9:30am\nWednesdays at 6:30pm\n\nCosts:\n$10 per book. \nWe’re so excited to have you join us!
URL:https://richmondhill.org/event/fbc-women-teens-bible-study/2026-02-09/
CATEGORIES:women
ATTACH;FMTTYPE=image/png:https://richmondhill.org/wp-content/uploads/2026/01/Share-Jesus-without-Fear.png
END:VEVENT
BEGIN:VEVENT
DTSTART;TZID=America/New_York:20260212T093000
DTEND;TZID=America/New_York:20260212T113000
DTSTAMP:20260423T162233
CREATED:20260114T165317Z
LAST-MODIFIED:20260114T170021Z
UID:10001425-1770888600-1770895800@richmondhill.org
SUMMARY:FBC Women's Precept Bible Study
DESCRIPTION:Precept Bible Studies Overview: \nScripture guides you toward God. Precept guides you through Scripture. \nWe believe that relationship with God comes through knowing His Word\, and that means studying it hands-on. Precept’s Method explains the nuts and bolts of our studies so that every student can discover God’s truth for themselves. \nThese steps—observation\, interpretation\, application—are numbered for clarity\, but it’s important to remember that you don’t have to use them in order. As you study\, you should expect to move fluidly between steps and respond to the text as it is presented. \nOur Ladies Precept Group will begin the Book of Exodus on Thursday January 22nd.  \nPrecept Upon Precept Book:  $25\nIn-N-Out Book:  $23 \nThere will be no childcare provided for this study.
URL:https://richmondhill.org/event/fbc-womens-precept-bible-study/2026-02-12/
CATEGORIES:women
ATTACH;FMTTYPE=image/png:https://richmondhill.org/wp-content/uploads/2026/01/Exodus.png
END:VEVENT
BEGIN:VEVENT
DTSTART;TZID=America/New_York:20260219T093000
DTEND;TZID=America/New_York:20260219T113000
DTSTAMP:20260423T162233
CREATED:20260114T165317Z
LAST-MODIFIED:20260114T170021Z
UID:10001426-1771493400-1771500600@richmondhill.org
SUMMARY:FBC Women's Precept Bible Study
DESCRIPTION:Precept Bible Studies Overview: \nScripture guides you toward God. Precept guides you through Scripture. \nWe believe that relationship with God comes through knowing His Word\, and that means studying it hands-on. Precept’s Method explains the nuts and bolts of our studies so that every student can discover God’s truth for themselves. \nThese steps—observation\, interpretation\, application—are numbered for clarity\, but it’s important to remember that you don’t have to use them in order. As you study\, you should expect to move fluidly between steps and respond to the text as it is presented. \nOur Ladies Precept Group will begin the Book of Exodus on Thursday January 22nd.  \nPrecept Upon Precept Book:  $25\nIn-N-Out Book:  $23 \nThere will be no childcare provided for this study.
URL:https://richmondhill.org/event/fbc-womens-precept-bible-study/2026-02-19/
CATEGORIES:women
ATTACH;FMTTYPE=image/png:https://richmondhill.org/wp-content/uploads/2026/01/Exodus.png
END:VEVENT
BEGIN:VEVENT
DTSTART;TZID=America/New_York:20260226T093000
DTEND;TZID=America/New_York:20260226T113000
DTSTAMP:20260423T162233
CREATED:20260114T165317Z
LAST-MODIFIED:20260114T170021Z
UID:10001427-1772098200-1772105400@richmondhill.org
SUMMARY:FBC Women's Precept Bible Study
DESCRIPTION:Precept Bible Studies Overview: \nScripture guides you toward God. Precept guides you through Scripture. \nWe believe that relationship with God comes through knowing His Word\, and that means studying it hands-on. Precept’s Method explains the nuts and bolts of our studies so that every student can discover God’s truth for themselves. \nThese steps—observation\, interpretation\, application—are numbered for clarity\, but it’s important to remember that you don’t have to use them in order. As you study\, you should expect to move fluidly between steps and respond to the text as it is presented. \nOur Ladies Precept Group will begin the Book of Exodus on Thursday January 22nd.  \nPrecept Upon Precept Book:  $25\nIn-N-Out Book:  $23 \nThere will be no childcare provided for this study.
URL:https://richmondhill.org/event/fbc-womens-precept-bible-study/2026-02-26/
CATEGORIES:women
ATTACH;FMTTYPE=image/png:https://richmondhill.org/wp-content/uploads/2026/01/Exodus.png
END:VEVENT
END:VCALENDAR