BEGIN:VCALENDAR
VERSION:2.0
PRODID:-//Richmond Hill - ECPv6.15.18//NONSGML v1.0//EN
CALSCALE:GREGORIAN
METHOD:PUBLISH
X-ORIGINAL-URL:https://richmondhill.org
X-WR-CALDESC:Events for Richmond Hill
REFRESH-INTERVAL;VALUE=DURATION:PT1H
X-Robots-Tag:noindex
X-PUBLISHED-TTL:PT1H
BEGIN:VTIMEZONE
TZID:America/New_York
BEGIN:DAYLIGHT
TZOFFSETFROM:-0500
TZOFFSETTO:-0400
TZNAME:EDT
DTSTART:20240310T070000
END:DAYLIGHT
BEGIN:STANDARD
TZOFFSETFROM:-0400
TZOFFSETTO:-0500
TZNAME:EST
DTSTART:20241103T060000
END:STANDARD
BEGIN:DAYLIGHT
TZOFFSETFROM:-0500
TZOFFSETTO:-0400
TZNAME:EDT
DTSTART:20250309T070000
END:DAYLIGHT
BEGIN:STANDARD
TZOFFSETFROM:-0400
TZOFFSETTO:-0500
TZNAME:EST
DTSTART:20251102T060000
END:STANDARD
BEGIN:DAYLIGHT
TZOFFSETFROM:-0500
TZOFFSETTO:-0400
TZNAME:EDT
DTSTART:20260308T070000
END:DAYLIGHT
BEGIN:STANDARD
TZOFFSETFROM:-0400
TZOFFSETTO:-0500
TZNAME:EST
DTSTART:20261101T060000
END:STANDARD
END:VTIMEZONE
BEGIN:VEVENT
DTSTART;TZID=America/New_York:20250225T093000
DTEND;TZID=America/New_York:20250225T110000
DTSTAMP:20260424T162717
CREATED:20250212T185302Z
LAST-MODIFIED:20250212T185302Z
UID:10000584-1740475800-1740481200@richmondhill.org
SUMMARY:Women's Bible Studies (Tuesday Mornings)
DESCRIPTION:Our Women’s Bible Studies will be resuming in January! We offer two Women’s Bible Studies on Tuesdays at 9:30am. Childcare is offered at all times. We’ll be hosting one Bible Study that is a Precept Study and another one studying The Good Gospel by Jennie Allen\, Jackie Hill Perry\, Jamie Ivey.
URL:https://richmondhill.org/event/womens-bible-studies-tuesday-mornings/2025-02-25/
CATEGORIES:women
ATTACH;FMTTYPE=image/png:https://richmondhill.org/wp-content/uploads/2025/01/Womens-3.png
END:VEVENT
BEGIN:VEVENT
DTSTART;TZID=America/New_York:20250225T093000
DTEND;TZID=America/New_York:20250225T110000
DTSTAMP:20260424T162717
CREATED:20250227T220049Z
LAST-MODIFIED:20250227T220052Z
UID:10000868-1740475800-1740481200@richmondhill.org
SUMMARY:Women's Bible Studies (Tuesday Mornings)
DESCRIPTION:Our Women’s Bible Studies will be resuming in January! We offer two Women’s Bible Studies on Tuesdays at 9:30am. Childcare is offered at all times. We’ll be hosting one Bible Study that is a Precept Study and another one studying The Good Gospel by Jennie Allen\, Jackie Hill Perry\, Jamie Ivey.
URL:https://richmondhill.org/event/womens-bible-studies-tuesday-mornings-2/2025-02-25/
CATEGORIES:women
ATTACH;FMTTYPE=image/png:https://richmondhill.org/wp-content/uploads/2025/01/Womens-3.png
END:VEVENT
END:VCALENDAR