BEGIN:VCALENDAR
VERSION:2.0
PRODID:-//Richmond Hill - ECPv6.15.18//NONSGML v1.0//EN
CALSCALE:GREGORIAN
METHOD:PUBLISH
X-ORIGINAL-URL:https://richmondhill.org
X-WR-CALDESC:Events for Richmond Hill
REFRESH-INTERVAL;VALUE=DURATION:PT1H
X-Robots-Tag:noindex
X-PUBLISHED-TTL:PT1H
BEGIN:VTIMEZONE
TZID:America/New_York
BEGIN:DAYLIGHT
TZOFFSETFROM:-0500
TZOFFSETTO:-0400
TZNAME:EDT
DTSTART:20240310T070000
END:DAYLIGHT
BEGIN:STANDARD
TZOFFSETFROM:-0400
TZOFFSETTO:-0500
TZNAME:EST
DTSTART:20241103T060000
END:STANDARD
BEGIN:DAYLIGHT
TZOFFSETFROM:-0500
TZOFFSETTO:-0400
TZNAME:EDT
DTSTART:20250309T070000
END:DAYLIGHT
BEGIN:STANDARD
TZOFFSETFROM:-0400
TZOFFSETTO:-0500
TZNAME:EST
DTSTART:20251102T060000
END:STANDARD
BEGIN:DAYLIGHT
TZOFFSETFROM:-0500
TZOFFSETTO:-0400
TZNAME:EDT
DTSTART:20260308T070000
END:DAYLIGHT
BEGIN:STANDARD
TZOFFSETFROM:-0400
TZOFFSETTO:-0500
TZNAME:EST
DTSTART:20261101T060000
END:STANDARD
END:VTIMEZONE
BEGIN:VEVENT
DTSTART;TZID=America/New_York:20250401T093000
DTEND;TZID=America/New_York:20250401T110000
DTSTAMP:20260424T150842
CREATED:20250227T222056Z
LAST-MODIFIED:20250227T223112Z
UID:10000939-1743499800-1743505200@richmondhill.org
SUMMARY:Women's Bible Study on 1 & 2 Kings (Tuesdays)
DESCRIPTION:Our Monday\, Tuesday\, and Wednesday Women’s Bible Studies will begin a new series on 1 & 2 Kings starting the week of March 10th. Childcare is offered at all times. \nTrustworthy: A Study of 1 and 2 Kings (Overcoming Our Greatest Struggles to Trust God): \n\nTeens & Women: Mondays at 6:30pm\nTuesdays at 9:30am\nWednesdays at 6:30pm\nAll launch the week of March 10th!\n\nCosts: \n\n$23 for Book
URL:https://richmondhill.org/event/womens-bible-study-on-1-2-kings-tuesdays/2025-04-01/
CATEGORIES:women
ATTACH;FMTTYPE=image/png:https://richmondhill.org/wp-content/uploads/2025/02/Womens-Bible-Study.png
END:VEVENT
END:VCALENDAR